{"text_format":"2","workbook":"xlsx","n_sheets":8,"sheets":["총괄표","일반현황 및 연구개발인력","연구원","연구비 1","연구비 2 및 지역별 구분","<참조 1> 연구활동의 예시","<참조 2,3> 외부기관 설명, 연구개발단계 설명","데이터입력용"],"not_rendered":{"charts":0,"images":4,"macros":0,"external_links":0,"defined_names":7,"comments":4,"pivot_tables":0},"unopened":[],"bounds":{"document_bytes":16777216,"sheet_cells":100000,"run_cost":"one","rows_first":2000,"rows_last":500,"rows_between":2000,"halvings":0,"cell_chars":16384,"cell_head_chars":4096},"cells_cut":0,"cells_raw":0,"read":"whole","date_system":"1900"}

{"sheet":"총괄표","index":0,"n_rows":40,"n_cols":14,"rows_kept":40,"cut":false,"hidden":false,"merged":[[9,1,9,2],[21,2,21,13],[19,2,19,13],[13,10,13,13],[10,9,11,9],[10,10,11,10],[10,11,11,11],[10,12,11,12],[10,13,11,13],[10,1,10,2],[13,1,14,2],[11,1,12,2],[9,3,9,5],[12,8,14,8],[12,10,12,13],[12,4,12,5],[39,2,41,12],[34,2,34,13],[23,2,23,13],[30,2,30,13],[25,2,25,13],[27,2,27,13],[1,2,1,13],[3,2,3,13],[5,2,5,13],[7,1,8,2],[7,3,8,5],[7,12,8,12],[7,13,8,13],[7,8,8,9],[7,7,8,7],[7,10,8,10],[7,11,8,11],[9,10,9,13],[14,10,14,13],[13,4,14,4],[10,3,10,5],[12,7,14,7],[11,3,12,3],[13,5,14,5],[13,3,14,3]]}
[]
[null,null,"연구개발활동조사표"]
[]
[null,null,"2021 사업년도분"]
[]
[null,null,"- 연구기관 및 연구조합·협회용 -"]
[]
[null,"기 관 명",{"$nulls":5},"대 표 자","직위",null,null,"성명",null,"인"]
[]
[null,"사업자등록번호",{"$nulls":7},"소속"]
[null,"법인등록번호",{"$nulls":5},"작 성 자",null,"직위",null,"성명",null,"인"]
[null,"주     소",null,null,"우편번호 :"]
[{"$nulls":7},"연 락 처",null,"E-mail :"]
[null,"홈페이지",null,null,"http://",{"$nulls":4},"TEL :"]
[{"$nulls":9},"FAX :"]
[]
[]
[null,null,"안   내"]
[]
[null,null,"￭ 본 조사는 연구개발활동(연구개발인력 및 연구개발비 등) 현황을 파악하여, \n  국가연구개발 정책수립에 필요한 통계작성을 위하여 과학기술정보통신부에서\n  실시하는 지정통계(1963년부터 실시)입니다."]
[]
[null,null,"￭ 본 조사는 이공계뿐만이 아니라, 인문·사회과학부문(예술관련 포함)의 연구개발\n  활동도 조사대상에 포함되오니 작성에 착오가 없으시기 바랍니다."]
[]
[null,null,"￭ 본 조사 결과는 중앙부처, 국회, 지방자치단체 등에서 과학기술분야의 정책발굴을 위한\n  기초 자료로 활용되고 있으며, OECD(경제협력개발기구)에도 제출되어 국가간 비교\n  자료로도 이용되고 있습니다. 연구개발활동실적 유·무와 관계없이 조사표를 작성\n  하시어 아래의 작성·발송방법에 따라 보내주시기 바랍니다."]
[]
[null,null,"∙ 수기로 작성시 : 본 조사표에 작성 → 사본 1부 보관, 원본은 우편발송(반송용봉투 사용) 또는 Fax전송 "]
[null,null,"∙ 파일로 작성시 : http://www.kistep.re.kr 접속 →  공지사항 → 「조사표 양식」검색 →"]
[null,null,"                       「(연구기관 및 연구조합·협회용) 조사표」 파일 다운 → 파일로 작성 → E-mail 발송"]
[]
[]
[null,null,"￭ 귀 기관에서 작성·제공해주신 자료는「통계법」제33조에 의해 비밀이 보장되며 통계\n  목적이외에는 사용되지 않습니다. 조사에 협조해 주셔서 감사합니다. "]
[]
[null,null,"작성요령"]
[]
[null,null,"￭ 인력현황은 2021년 12월 31일 기준으로 작성하시고, 연구개발비 등의 금액현황은 \n  2021년 1월 1일~2021년 12월 31일(기간)을 기준으로 작성하여 주시되, 회계연도가\n  1월 1일~12월 31일이 아닌 경우에는 최근에 완료된 회계연도분으로 작성해 주십시오."]
[]
[null,null,"※ 엑셀파일로 작성 시, 본 엑셀 파일의 메모 내용을 참조하여 작성하여 주십시오."]
[]
[]
[null,null,"<보 내 실 곳>\n      (우) 07802  서울특별시 강서구 공항대로 219 센테니아빌딩 12층 1201\n              연구개발활동조사 조사기관 (패턴웍스 실사팀)\n        문의처 : 02-6247-1327, 043-750-2730 연구개발활동조사 담당\n  팩  스 : 02-3444-8066           e-mail : rnd@tbmk.co.kr"]

{"sheet":"일반현황 및 연구개발인력","index":1,"n_rows":36,"n_cols":19,"rows_kept":36,"cut":false,"hidden":false,"merged":[[6,2,6,3],[6,5,6,7],[6,8,6,18],[32,5,32,7],[32,1,32,4],[7,5,7,12],[24,2,24,19],[26,0,26,19],[30,5,30,7],[30,2,30,4],[17,14,17,17],[20,5,20,9],[19,10,19,13],[20,10,20,13],[18,14,18,17],[18,5,18,9],[4,1,5,1],[4,2,5,3],[4,5,4,7],[4,8,4,18],[5,5,5,18],[2,2,2,3],[2,5,2,7],[2,8,2,18],[3,2,3,3],[3,5,3,7],[3,8,3,18],[7,2,7,3],[15,2,16,3],[7,14,7,18],[25,0,25,18],[33,5,33,7],[17,3,17,4],[18,10,18,13],[18,3,18,4],[23,0,23,18],[31,5,31,7],[31,2,31,4],[20,2,20,3],[17,1,19,1],[19,3,19,4],[19,5,19,9],[15,18,16,18],[13,0,13,18],[10,0,10,18],[11,0,11,18],[17,10,17,13],[15,5,16,9],[15,10,15,17],[16,10,16,13],[16,14,16,17],[17,5,17,9],[17,2,19,2],[19,14,19,17],[20,14,20,17],[22,0,22,18],[31,8,31,10],[31,11,31,13],[31,14,31,16],[35,2,35,7],[35,11,35,15],[35,17,35,18],[33,11,33,13],[30,8,30,10],[30,11,30,13],[33,8,33,10],[30,14,30,16],[33,14,33,16],[32,8,32,10],[32,11,32,13],[32,14,32,16],[33,1,33,4]]}
["가. 일 반 현 황"]
[]
[null,null,"조 직 형 태",{"$nulls":5},"(   )안에서 선택\n(1. 국립연구기관  2. 공립연구기관  3. 정부출연연구기관\n 4. 지방자치단체출연(연)  5. 기타비영리기관(연구조합, 협회 등))"]
[null,null,"총 직 원 수",{"$nulls":5},"명 (비정규직을 포함하여 작성하여 주십시오.)"]
[null,null,"연구개발수행 유무",{"$nulls":5},"(   ) 안에서 선택 (1. 유 , 2. 무)"]
[{"$nulls":5},"※ 본 조사에서 연구개발은 \"새로운 지식을 획득하거나 기존 지식을 활용하여 새로운 방법을 찾아내기 위한 창조적인 노력 및 탐구\"로 정의됩니다. 시험생산 및 상업화단계는 연구개발에서 제외됩니다. 분야별 연구활동의 예시는 본 엑셀 파일의 \"<참조 1>\" 탭을 참고하여 주십시오."]
[null,null,"주요 연구개발 분야",{"$nulls":5},"(   )안에서 선택 (여러가지가 해당될 경우 주요 분야 하나만 선택)\n (1. 이학           2. 공  학       3. 의·약·보건학\n  4. 농업과학      5. 인문학      6. 사회과학)"]
[]
["나. 연 구 개 발 인 력"]
[]
[" ※ 2021년 연구·개발과제(시험생산 및 상업화 단계의 과제는 제외)에 참여한 인력에 관한 조사항목입니다."]
["     비정규직을 포함하여 작성하여 주십시오.(이·공학, 인문사회과학 및 예·체능 모두 포함)"]
[]
["1. 연구개발인력의 직능별 구분 및 평균 연구참여 비율 (2021년말 기준)"]
[{"$nulls":18},"(단위 : 명)"]
[null,null,"구     분",null,null,"연  구  원\n(A)",{"$nulls":4},"연 구 보 조 원",{"$nulls":7},"합  계"]
[{"$nulls":10},"연구지원·기능인력\n(B)",null,null,null,"연구행정 및 기타지원인력\n(C)"]
[null,null,"2021년 현황","남성",{"$nulls":14},{"$f":"SUM(F18:R18)","v":0}]
[null,null,null,"여성",{"$nulls":14},{"$f":"SUM(F19:R19)","v":0}]
[null,null,null,"합계",null,{"$f":"SUM(F18:J19)","v":0},{"$nulls":4},{"$f":"SUM(K18:N19)","v":0},null,null,null,{"$f":"SUM(O18:R19)","v":0},null,null,null,{"$f":"SUM(F20:R20)","v":0}]
[null,null,"평균 연구참여 비율(%)",{"$nulls":15},"-"]
[]
[" ※ 공동연구과제에 참여하고 있는, 타 기관 소속 연구개발인력은 제외하여 기입(귀 기관 소속 연구개발인력만 기재)"]
[" ※ 연구개발인력의 구분 방법"]
[null,null," - 연구원 : 학사학위 이상의 학위 소지자 또는 동등 학위 이상의 전문지식을 갖고 있는 사람으로서 연구개발과제에 \n             참여한 사람\n - 연구보조원\n   ·연구지원․기능인력 : 연구원은 아니나 연구개발활동과 관련된 연구용 기자재의 운용, 도면의 작성, 가공·조립, \n                            실험·검사·측정 등의 연구지원 업무에 종사하는 사람 및 연구개발 보조자\n   ·연구행정 및 기타지원인력 : 연구원은 아니나 연구개발활동을 직접적으로 지원하는 연구행정, 연구회계, \n                                     연구지원사무 등을 포함한 지원업무에 종사하는 사람"]
[" ※ 평균 연구참여 비율"]
["   - 통상 30%정도의 시간을 연구개발을 위해서 사용하고 나머지 시간은 기타 활동에 사용하는 경우 평균\n     연구참여 비율은 30%가 됩니다. "]
[]
["2. 연구원의 연령별 구분 (연구원수만 기재, 연구보조원(지원, 행정 등)은 제외, 2021년말 기준)"]
[]
[null,"구     분","구     분",null,null,"29세 이하",null,null,"30~39세",null,null,"40~49세",null,null,"50~59세",null,null,"60세 이상","합 계"]
[null,"남     성","남     성",{"$nulls":15},{"$f":"SUM(F32:R32)","v":0}]
[null,"여     성",{"$nulls":16},{"$f":"SUM(F33:R33)","v":0}]
[null,"합     계",null,null,null,{"$f":"SUM(F32:H33)","v":0},null,null,{"$f":"SUM(I32:K33)","v":0},null,null,{"$f":"SUM(L32:N33)","v":0},null,null,{"$f":"SUM(O32:Q33)","v":0},null,null,{"$f":"SUM(R32:R33)","v":0},{"$f":"SUM(S32:S33)","v":0}]
[]
[null,null,{"$f":"IF(총괄표!$D$8=\"\",\"\",총괄표!$D$8)","v":""},{"$nulls":8},{"$f":"IF(총괄표!$D$10=\"\",\"\",총괄표!$D$10)","v":""},{"$nulls":5},{"$f":"IF(총괄표!$D$11=\"\",\"\",총괄표!$D$11)","v":""}]

{"sheet":"연구원","index":2,"n_rows":21,"n_cols":14,"rows_kept":21,"cut":false,"hidden":false,"merged":[[3,1,4,3],[3,4,3,5],[3,6,3,7],[3,8,3,9],[3,10,3,11],[3,13,4,13],[5,1,6,3],[7,1,8,3],[9,1,10,3],[11,1,12,3],[5,7,6,7],[5,8,6,8],[5,9,6,9],[5,10,6,10],[5,11,6,11],[5,13,6,13],[7,7,8,7],[7,8,8,8],[7,9,8,9],[7,10,8,10],[7,11,8,11],[13,1,14,3],[15,1,16,3],[5,4,6,4],[5,5,6,5],[5,6,6,6],[7,4,8,4],[7,5,8,5],[7,6,8,6],[11,4,12,4],[11,5,12,5],[11,6,12,6],[15,4,16,4],[15,5,16,5],[7,13,8,13],[9,4,10,4],[9,5,10,5],[9,6,10,6],[9,7,10,7],[9,8,10,8],[9,9,10,9],[9,10,10,10],[9,11,10,11],[9,13,10,13],[11,13,12,13],[13,4,14,4],[13,5,14,5],[13,6,14,6],[13,7,14,7],[13,8,14,8],[13,9,14,9],[13,10,14,10],[13,11,14,11],[13,13,14,13],[11,7,12,7],[11,8,12,8],[11,9,12,9],[11,10,12,10],[11,11,12,11],[20,1,20,3],[20,6,20,8],[20,10,20,13],[15,11,16,11],[15,13,16,13],[19,1,19,13],[15,6,16,6],[15,7,16,7],[15,8,16,8],[15,9,16,9],[15,10,16,10],[17,1,17,3]]}
[]
["3. 연구원의 전공별·학위별 구분(연구원수만 기재, 연구보조원-지원·행정 등-은 제외, 2021년말 기준)"]
[{"$nulls":13},"(단위 : 명)"]
[null,"구     분",null,null,"박  사",null,"석  사",null,"학  사",null,"기  타",null,null,"합  계"]
[{"$nulls":4},"남","여","남","여","남","여","남","여"]
[null,"이   학",{"$nulls":11},{"$f":"SUM(E6:L7)","v":0}]
[]
[null,"공   학",{"$nulls":11},{"$f":"SUM(E8:L9)","v":0}]
[]
[null,"의·약·보건학",{"$nulls":11},{"$f":"SUM(E10:L11)","v":0}]
[]
[null,"농 업 과 학",{"$nulls":10},{"$f":"'일반현황 및 연구개발인력'!F18","v":0},{"$f":"SUM(E12:L13)","v":0}]
[{"$nulls":12},{"$f":"'일반현황 및 연구개발인력'!F19","v":0}]
[null,"인 문 학",{"$nulls":10},{"$f":"SUM(E18,G18,I18,K18)","v":0},{"$f":"SUM(E14:L15)","v":0}]
[{"$nulls":12},{"$f":"SUM(F18,H18,J18,L18)","v":0}]
[null,"사회과학",{"$nulls":11},{"$f":"SUM(E16:L17)","v":0}]
[]
[null,"합           계",null,null,{"$f":"SUM(E6:E17)","v":0},0,0,0,0,0,0,0,null,{"$f":"'일반현황 및 연구개발인력'!F20","v":0}]
[]
[null,"- 이학:  수학, 컴퓨터와 정보과학, 물리학, 화학, 지구 및 관련 환경과학, 생물과학, 기타 자연과학\n- 공학 : 토목공학, 전기·전자·정보공학, 기계공학, 화학공학, 재료공학, 의공학, 환경공학, 환경바이오기술, \n          산업바이오기술, 나노기술, 기타 공학 및 기술\n-  의・약・보건학 : 기초의학, 임상의학, 보건학, 의학바이오기술, 기타 의학 등\n- 농업과학 :  농·림·수산학, 축산학·동물학·낙농과학, 수의학, 농업바이오기술, 기타 농학 등\n- 인문학 : 역사학, 언어학·문학, 철학·윤리학·종교학, 예술학(예술, 예술사, 공연예술, 음악, 디자인, 의상) \n             기타 인문학 등\n- 사회과학 : 심리학·인지과학, 경제학·경영학, 교육학, 사회학, 법학, 정치학, 행정학, 사회·경제지리,\n               미디어·커뮤니케이션, 기타 사회과학 등"]
[null,{"$f":"IF(총괄표!$D$8=\"\",\"\",총괄표!$D$8)","v":""},{"$nulls":4},{"$f":"IF(총괄표!$D$10=\"\",\"\",총괄표!$D$10)","v":""},null,null,null,{"$f":"IF(총괄표!$D$11=\"\",\"\",총괄표!$D$11)","v":""}]

{"sheet":"연구비 1","index":3,"n_rows":48,"n_cols":22,"rows_kept":48,"cut":false,"hidden":false,"merged":[[1,1,1,21],[2,1,2,21],[5,1,5,19],[5,20,6,20],[5,21,6,21],[6,1,6,19],[8,1,8,11],[8,13,8,21],[9,1,9,11],[9,13,9,21],[10,1,15,1],[10,2,10,7],[10,8,10,10],[11,2,11,7],[11,8,11,10],[11,13,12,19],[11,20,12,20],[11,21,12,21],[12,2,12,7],[12,8,12,10],[13,2,13,7],[13,8,13,10],[14,2,14,7],[14,8,14,10],[15,2,15,7],[15,8,15,10],[15,13,16,19],[15,21,16,21],[16,1,17,1],[16,2,16,7],[16,8,16,10],[17,2,17,7],[17,8,17,10],[15,20,16,20],[18,1,20,1],[18,2,18,7],[18,8,18,11],[18,13,20,14],[18,20,18,21],[19,2,19,7],[19,8,19,10],[20,2,20,7],[20,8,20,10],[22,8,22,10],[22,16,22,19],[23,2,23,7],[23,8,23,10],[23,15,23,19],[21,2,22,2],[21,3,21,7],[21,13,27,14],[21,15,22,15],[24,2,24,7],[24,8,24,10],[24,15,24,19],[25,2,25,7],[21,8,21,11],[26,21,27,21],[27,2,27,7],[27,8,27,10],[28,1,28,7],[28,8,28,10],[28,13,28,19],[26,20,27,20],[21,1,27,1],[21,20,21,21],[25,8,25,10],[25,15,25,19],[26,2,26,7],[26,8,26,10],[26,15,27,19],[21,16,21,19],[22,3,22,7],[29,1,29,21],[31,20,31,21],[32,1,33,18],[33,19,33,21],[39,1,39,6],[39,7,39,19],[39,20,40,21],[40,1,40,3],[40,4,40,6],[40,7,40,8],[32,19,32,20],[40,9,40,12],[40,13,40,15],[40,16,40,17],[40,18,40,19],[43,1,46,22],[47,1,47,7],[47,11,47,16],[47,19,47,21],[41,1,41,2],[41,4,41,5],[41,9,41,10],[41,11,41,12],[41,13,41,14]]}
["다. 연 구 개 발 비"]
[null," ※ 2021년 연구·개발과제(시험생산 및 상업화 단계의 과제는 제외)에 소요된 비용에 관한 조사항목입니다.\n     (이·공학, 인문사회과학 및 예·체능 모두 포함)"]
[null," ※ 다년도 사업일 경우, 1년 단위로 연구비를 계산하여 작성하여 주시기 바랍니다."]
["4. 연구개발비의 재원별 구분"]
[]
[null,"4-1. 자 체 부 담   연 구 개 발 비 ①",{"$nulls":19},"백만원"]
[null,"※ 자체부담연구개발비란 연구개발목적으로 자체적으로 조달한(대응자금 등) 연구개발비를 의미합니다.\n주의) 정부예산은 4-2번 항목의 「외부로부터 받은 연구개발비」에 기재하십시오."]
[]
[null,"4-2. 외부로부터 받은 연구개발비 ②",{"$nulls":11},"4-3. 외부로 지출한 연구개발비 ③"]
[null,"연구개발목적으로 외부(정부, 출연연, 민간 등)에서 수탁받은 연구개발비",{"$nulls":11},"공동이나 위탁연구 형태로 외부로 지출한 연구개발비"]
[null,"정부\n재원","중앙부처",{"$nulls":8},"백만원",null,"국·공립대학교",{"$nulls":7},"백만원"]
[null,null,"지방자치단체",{"$nulls":8},"백만원",null,"국·공립연구기관",{"$nulls":7},"백만원"]
[null,null,"국·공립대학교",{"$nulls":8},"백만원"]
[null,null,"국·공립연구기관",{"$nulls":8},"백만원",null,"정부출연연구기관",{"$nulls":7},"백만원"]
[null,null,"정부출연연구기관",{"$nulls":8},"백만원",null,"지방자치단체출연연구기관",{"$nulls":7},"백만원"]
[null,null,"지방자치단체출연연구기관",{"$nulls":8},"백만원",null,"기타비영리법인",{"$nulls":7},"백만원"]
[null,"공공\n재원","기타비영리법인",{"$nulls":8},"백만원"]
[null,null,"사립대학교",{"$nulls":8},"백만원",null,"사립대학교",{"$nulls":7},"백만원"]
[null,"민간\n재원","동일계열사내 다른업체",{"$nulls":5},"해당사항 없음",{"$nulls":4},"민간",null,"동일계열사내 다른업체",{"$nulls":4},"해당사항 없음"]
[null,null,"외부민간업체",{"$nulls":8},"백만원",null,null,null,"외부 민간업체",{"$nulls":5},"백만원"]
[null,null,"정부투자,재투자기관",{"$nulls":8},"백만원",null,null,null,"정부투자,재투자기관",{"$nulls":5},"백만원"]
[null,"외국","기\n업","동일계열사소속업체",{"$nulls":4},"해당사항 없음",{"$nulls":4},"외국",null,"기\n업","동일계열사소속업체",null,null,null,"해당사항 없음"]
[null,null,null,"외부업체",{"$nulls":7},"백만원",{"$nulls":4},"외부업체",{"$nulls":4},"백만원"]
[null,null,"외국정부",{"$nulls":8},"백만원",null,null,null,"외국정부",{"$nulls":5},"백만원"]
[null,null,"외국비영리법인",{"$nulls":8},"백만원",null,null,null,"외국비영리법인",{"$nulls":5},"백만원"]
[null,null,"외국대학",{"$nulls":8},"백만원",null,null,null,"외국대학",{"$nulls":5},"백만원"]
[null,null,"EU",{"$nulls":8},"백만원",null,null,null,"국제기구",{"$nulls":5},"백만원"]
[null,null,"국제기구",{"$nulls":8},"백만원"]
[null,"소       계  ②",{"$nulls":6},{"$f":"SUM(I11:K18,I20:K28)","v":0},null,null,"백만원",null,"소       계  ③",{"$nulls":6},{"$f":"SUM(U11:U28)","v":0},"백만원"]
[null,"※ 외부기관에 대한 설명 및 예시는 본 엑셀 파일의 \"<참조 2,3> 외부기관 설명, 연구개발단계 설명\" 탭을 참고하십시오"]
[]
["5. 자체사용연구개발비",{"$nulls":19},{"$f":"NUMBERSTRING(T33*1000000,1)&\"원\"","v":"영원"}]
[null,"자 체 사 용 연 구 개 발 비    (D)",{"$nulls":17},{"$f":"U6+I29-U29","v":0},null,"백만원"]
[{"$nulls":19},"<계산식> ①+②-③"]
[]
["6. 자체사용연구비의 세부항목별 구분"]
[]
[null,"6-1. 자체사용연구개발비의 비목별 현황"]
[]
[null,"경 상 비",{"$nulls":5},"자본적지출  ※당해년도 취득가액만 기입",{"$nulls":12},"합계"]
[null,"인건비",null,null,"기타경상비",null,null,"기계·장치",null,"토지",null,null,null,"건물",null,null,"컴퓨터소프트웨어",null,"기타 지식재산물"]
[null,null,null,"백만원",null,null,"백만원",null,"백만원",null,null,"백만원",null,null,null,"백만원",null,"백만원",null,"백만원",{"$f":"SUM(B42,E42,H42,J42,N42,Q42,S42)","v":0},"백만원"]
[]
[null,"※ 비목에 관한 설명\n  - 경상비\n    ∙ 인건비 : 연구개발인력 및 연구개발을 직접적으로 지원하는 자(연구기획·관리 및 연구전담지원조직)의 급여, 상여, 연금적립금, 퇴직충당금\n                 등 제세공과금 공제이전의 총지급액. 단, 경비, 사서, 전산 등 간접 지원인력 인건비는 기타경상비로 처리\n   ∙ 기타 경상비 : 경상비 중 인건비를 제외한 모든 비용\n       · 원재료비 : 연구에 소요되는 주요 원료비, 재료비, 부품구입비, 시작품비 등을 포함\n       · 직접경비 : 데이터 처리비, 시험설비 사용료, 유인물비, 도서구입비, 학회활동비, 여비, 공공요금, 광열비, 기계·건물수리비, 비품구입비 등\n                       연구개발활용에 관련하여 투입된 경비\n       · 간접경비 : 연구행정관리비, 기술정보비, 건물사용료, 경비원, 운전기사, 청소원 등은 총 지출비용 중 연구개발활동을 지원한 부분만큼의 \n                       비율로 배분하여 포함시킴\n - 자본적 지출\n   · 기계·장치 : 연구개발용의 고가 기기․장치, 대규모 도서 및 시편의 일괄구입을 위한 지출총액(부가가치세 제외)\n   · 토지 : 연구개발용 토지를 위한 지출액\n   · 건물 : 연구개발용 건물비 및 건물의 대규모 수리 등을 위한 지출액\n   · 컴퓨터소프트웨어 : 연구개발 수행 목적의 컴퓨터소프트웨어 비용으로서, 완전 구매 혹은 장기 라이선스 모두 포함됨.  순수 연구개발 목적으로\n                             기관 내에서 자체 개발한 경우 그 비용까지 포함해야 함. 단, 해당 소프트웨어의 사용이나 라이선스의 활용 기간이 1년 \n                             미만이면 기타경상비로 처리 요함\n   · 기타 지식재산물 : 연구개발 수행을 위해 구입한 특허와 장기 라이선스 등 기타 무형자산을 위한 비용으로서 1년 이상 활용되는 경우를 의미함.\n                            단, 영업권 혹은 제품 생산을 위해 획득한 경우는 제외함\n                           (예: 데이터베이스 구축·라이선스 임대·구매, 원고·파일·라이선스 등 형태의 무형 자산 등도 포함)\n"]
[]
[]
[]
[null,{"$f":"IF(총괄표!$D$8=\"\",\"\",총괄표!$D$8)","v":""},{"$nulls":9},{"$f":"IF(총괄표!$D$10=\"\",\"\",총괄표!$D$10)","v":""},{"$nulls":7},{"$f":"IF(총괄표!$D$11=\"\",\"\",총괄표!$D$11)","v":""}]

{"sheet":"연구비 2 및 지역별 구분","index":4,"n_rows":79,"n_cols":23,"rows_kept":79,"cut":false,"hidden":false,"merged":[[27,1,27,2],[75,20,75,21],[74,15,74,16],[74,17,74,19],[75,1,75,2],[75,3,75,5],[75,6,75,7],[75,8,75,10],[75,11,75,12],[75,13,75,14],[75,15,75,16],[75,17,75,19],[74,1,74,2],[74,3,74,5],[74,6,74,7],[74,8,74,10],[74,11,74,12],[74,13,74,14],[72,15,72,16],[72,17,72,19],[73,1,73,2],[73,3,73,5],[73,6,73,7],[73,8,73,10],[73,11,73,12],[73,13,73,14],[73,15,73,16],[73,17,73,19],[72,1,72,2],[72,3,72,5],[72,6,72,7],[72,8,72,10],[72,11,72,12],[72,13,72,14],[70,15,70,16],[70,17,70,19],[71,1,71,2],[71,3,71,5],[71,6,71,7],[71,8,71,10],[71,11,71,12],[71,13,71,14],[71,15,71,16],[71,17,71,19],[70,1,70,2],[70,3,70,5],[70,6,70,7],[70,8,70,10],[70,11,70,12],[70,13,70,14],[68,15,68,16],[68,17,68,19],[69,1,69,2],[69,3,69,5],[69,6,69,7],[69,8,69,10],[69,11,69,12],[69,13,69,14],[69,15,69,16],[69,17,69,19],[68,1,68,2],[68,3,68,5],[68,6,68,7],[68,8,68,10],[68,11,68,12],[68,13,68,14],[65,15,65,16],[65,17,65,19],[67,1,67,2],[67,3,67,5],[67,6,67,7],[67,8,67,10],[67,11,67,12],[67,13,67,14],[67,15,67,16],[67,17,67,19],[65,1,65,2],[65,3,65,5],[65,6,65,7],[65,8,65,10],[65,11,65,12],[65,13,65,14],[66,15,66,16],[66,17,66,19],[66,1,66,2],[66,3,66,5],[66,6,66,7],[66,8,66,10],[66,11,66,12],[66,13,66,14],[63,15,63,16],[63,17,63,19],[64,1,64,2],[64,3,64,5],[64,6,64,7],[64,8,64,10],[64,11,64,12],[64,13,64,14],[64,15,64,16],[64,17,64,19],[63,1,63,2],[63,3,63,5],[63,6,63,7],[63,8,63,10],[63,11,63,12],[63,13,63,14],[62,1,62,2],[62,3,62,5],[62,6,62,7],[62,8,62,10],[62,11,62,12],[62,13,62,14],[62,15,62,16],[62,17,62,19],[61,1,61,2],[61,3,61,5],[61,6,61,7],[61,8,61,10],[61,11,61,12],[61,13,61,14],[60,1,60,2],[60,3,60,5],[60,6,60,7],[60,8,60,10],[60,11,60,12],[60,13,60,14],[60,15,60,16],[60,17,60,19],[61,15,61,16],[61,17,61,19],[58,1,58,2],[58,3,58,5],[58,6,58,7],[58,8,58,10],[58,11,58,12],[58,13,58,14],[58,15,58,16],[58,17,58,19],[59,1,59,2],[59,3,59,5],[59,6,59,7],[59,8,59,10],[59,11,59,12],[59,13,59,14],[59,15,59,16],[59,17,59,19],[43,19,43,21],[44,1,44,22],[52,1,52,22],[53,1,53,21],[55,1,57,2],[55,3,55,16],[55,17,57,21],[56,3,56,10],[56,11,56,16],[57,3,57,5],[43,1,43,2],[43,4,43,5],[43,7,43,8],[43,10,43,11],[43,13,43,14],[43,16,43,17],[57,6,57,7],[57,8,57,10],[57,11,57,12],[57,13,57,14],[57,15,57,16],[45,1,45,7],[45,10,45,14],[45,17,45,22],[37,1,37,22],[38,1,38,22],[42,1,42,3],[42,4,42,6],[42,7,42,9],[42,10,42,12],[42,13,42,15],[42,16,42,18],[42,19,42,22],[35,21,35,22],[36,1,36,2],[36,4,36,5],[36,9,36,10],[36,12,36,13],[36,15,36,16],[29,1,29,22],[30,1,30,22],[31,1,31,22],[35,1,35,3],[35,4,35,6],[35,7,35,8],[35,9,35,11],[35,12,35,14],[35,15,35,17],[35,18,35,19],[32,1,32,7],[32,10,32,14],[32,17,32,22],[26,7,26,10],[26,11,26,13],[26,14,26,16],[26,17,26,19],[26,21,26,22],[27,4,27,5],[27,7,27,9],[27,11,27,12],[27,14,27,15],[27,17,27,18],[19,1,19,22],[23,1,23,22],[17,1,17,3],[17,13,17,15],[18,1,18,2],[24,21,24,22],[25,1,25,2],[25,4,25,5],[25,7,25,9],[25,11,25,12],[25,14,25,15],[25,17,25,18],[24,17,24,19],[24,1,24,3],[24,4,24,6],[20,1,20,7],[20,10,20,14],[20,17,20,22],[17,16,17,22],[18,16,18,21],[12,19,12,21],[13,19,13,22],[15,16,15,18],[15,19,15,22],[14,1,14,2],[14,4,14,5],[16,19,16,21],[17,10,17,12],[16,1,16,2],[16,4,16,5],[16,7,16,8],[14,19,14,21],[16,10,16,11],[16,13,16,14],[16,16,16,17],[15,1,15,3],[15,4,15,6],[15,7,15,9],[15,10,15,12],[15,13,15,15],[14,16,14,17],[13,13,13,15],[12,1,12,2],[12,4,12,5],[12,7,12,8],[12,10,12,11],[12,13,12,14],[9,7,9,9],[9,10,9,12],[12,16,12,17],[13,1,13,3],[13,4,13,6],[13,7,13,9],[13,10,13,12],[14,10,14,11],[14,13,14,14],[10,16,10,17],[3,1,3,6],[3,7,3,11],[3,12,3,16],[3,17,3,22],[4,21,4,22],[4,12,4,14],[4,15,4,16],[4,17,4,19],[11,1,11,3],[11,4,11,6],[11,7,11,9],[11,10,11,12],[11,13,11,15],[11,16,11,18],[10,1,10,2],[4,1,4,5],[4,7,4,10],[9,16,9,18],[10,7,10,8],[10,10,10,11],[10,13,10,14],[10,19,10,21],[11,19,11,22],[78,1,78,7],[78,10,78,14],[78,17,78,22],[26,1,26,3],[26,4,26,6],[9,19,9,22],[5,1,5,22],[9,1,9,3],[9,4,9,6],[13,16,13,18],[14,7,14,8],[9,13,9,15],[24,7,24,10],[24,11,24,13],[24,14,24,16],[17,4,17,6],[17,7,17,9],[18,4,18,5],[18,7,18,8],[18,13,18,14],[18,10,18,11],[10,4,10,5]]}
[]
[null,"6-2. 자체사용연구개발비의 연구개발단계별 현황"]
[]
[null,"기  초  연  구",{"$nulls":5},"응  용  연  구",{"$nulls":4},"개  발  연  구",{"$nulls":4},"합  계"]
[{"$nulls":6},"백만원",{"$nulls":4},"백만원",null,null,null,"백만원",null,{"$f":"SUM(B5,H5,M5)","v":0},null,null,{"$f":"'연구비 1'!T33","v":0},"백만원"]
[null," ※ 예시는 본 엑셀 파일의 \"<참조 2,3> 외부기관 설명, 연구개발단계 설명\" 탭을 참고하십시오\n\n ※ 연구개발의 단계별 개념 및 주요 특징\n - 기초연구 : 특정한 응용 또는 사용을 목표로 하지 않고 자연현상 및 관찰 가능한 사물의 기초가 되는 \n                   새로운 과학적 지식을 획득하기 위하여 주로 행하여지는 이론적 또는 실험적 연구로써, \n                   새로운 과학적 지식의 획득을 위한 이론적 연구 (목적지향 기초연구비도 포함)\n - 응용연구 : 기초연구의 결과 얻어진 지식을 이용하여, 주로 특정한 실용적인 목적과 목표 하에 새로운\n                    과학적 지식을 획득하기 위하여 행해지는 독창적인 연구\n - 개발연구 : 기초연구·응용연구 및 실제 경험으로부터 얻어진 지식을 이용하여 새로운 재료·제품 및 \n                    장치를 생산하거나, 이미 생산 또는 설치된 것을 실질적으로 개선하기 위한 체계적인 \n                    활동으로써, 신제품, 재료, 장치의 상업화, 기존제품의 공정 개선을 목적으로 하는 연구"]
[]
[null,"6-3. 자체사용연구개발비의 기술분류별 구성 비중"]
[]
[null,"수 학",null,null,"물리학",null,null,"화 학",null,null,"지구과학\n(지구/대기/해양/천문)",null,null,"생명과학",null,null,"농림수산식품",null,null,"보건의료"]
[null,null,null,"%",null,null,"%",null,null,"%",null,null,"%",null,null,"%",null,null,"%",null,null,null,"%"]
[null,"기 계",null,null,"재 료",null,null,"화공",null,null,"전기/전자",null,null,"정보/통신",null,null,"에너지/자원",null,null,"원자력"]
[null,null,null,"%",null,null,"%",null,null,"%",null,null,"%",null,null,"%",null,null,"%",null,null,null,"%"]
[null,"환 경",null,null,"건설/교통",null,null,"역사/고고학",null,null,"철학/종교\n(예술학, 미학)",null,null,"언어",null,null,"문 학",null,null,"문화/예술/체육\n(디자인)"]
[null,null,null,"%",null,null,"%",null,null,"%",null,null,"%",null,null,"%",null,null,"%",null,null,null,"%"]
[null,"법",null,null,"정치/행정",null,null,"경제/경영",null,null,"사회/인류/\n복지/여성",null,null,"생활\n(소비자,의류,주거)",null,null,"지리/지역/관광",null,null,"심리"]
[null,null,null,"%",null,null,"%",null,null,"%",null,null,"%",null,null,"%",null,null,"%",null,null,null,"%"]
[null,"교육",null,null,"미디어/커뮤니케이션/문헌정보",null,null,"뇌과학",null,null,"인지/감성과학",null,null,"과학기술과 \n인문사회",null,null,"합 계"]
[null,null,null,"%",null,null,"%",null,null,"%",null,null,"%",null,null,"%",{"$f":"SUM(B11,E11,H11,K11,N11,Q11,T11,B13,E13,H13,K13,N13,Q13,T13,T15,Q15,N15,K15,H15,E15,B15,B17,E17)+SUM(H17,K17,N17,Q17,T17,B19,K19,N19,E19,H19)","v":0},{"$nulls":5},"%"]
[null,"※ 과학기술과 인문사회 : 과학기술사, 과학기술철학, 과학기술정책/사회, 생명/의료윤리 등\n※ 조사항목 6-3(기술분류)과 6-4(경제사회목적)의 구분\n - 산간지역에 전력을 공급하기 위해 연료전지를 개발 : 기술분류는 ‘에너지’, 경제사회목적은 ‘농업’\n - 무기로 사용될 수 있는 화학물질이 인체에 미치는 영향 : 기술분류는 ‘보건’, 경제사회목적은 ‘국방’"]
[null,{"$f":"IF(총괄표!$D$8=\"\",\"\",총괄표!$D$8)","v":""},{"$nulls":8},{"$f":"IF(총괄표!$D$10=\"\",\"\",총괄표!$D$10)","v":""},{"$nulls":6},{"$f":"IF(총괄표!$D$11=\"\",\"\",총괄표!$D$11)","v":""}]
[]
[null,"6-4. 자체사용연구개발비의 경제사회목적별 구성 비중"]
[]
[null,"지구개발 및 탐사",null,null,"환 경",null,null,"우주개발 및 탐사",null,null,null,"교통, 전기통신 등 기반시설",null,null,"에너지",null,null,"산업생산 및 \n기술",null,null,null,"건강"]
[null,null,null,"%",null,null,"%",null,null,null,"%",null,null,"%",null,null,"%",null,null,"%",null,null,"%"]
[null,"농업",null,null,"교육",null,null,"문화, 휴양, 종교\n및 매스미디어",null,null,null,"정치, 사회시스템, \n구조 및 과정",null,null,"지식의 일반적\n진보",null,null,"국방",null,null,null,"합계"]
[null,null,null,"%",null,null,"%",null,null,null,"%",null,null,"%",null,null,"%",null,null,"%",null,{"$f":"SUM(B26,E26,H26,L26,O26,R26,V26,B28,E28,H28,L28,O28,R28)","v":0},"%"]
[]
[null," ※ 경제사회목적별 구분\n - 지구개발 및 탐사 : 지각 및 맨틀, 해양, 대기 및 이들의 탐사에 관한 연구를 의미하며, 기후 및 기상연구, \n            천연자원(광물,석유), 해저 탐사, 극지(polar) 탐사, 수문학(hydrology) 등이 포함\n - 환  경 : 오염관리, 오염원 및 원인의 분석 및 정의, 오염의 영향에 대한 연구를 의미하며, 오염물질의 측정을 \n           위한 모니터링시설의 개발, 오염원 제거 및 예방, 소음·진동, 서식지 보호, 자연방재 등을 위한 \n           연구도 포함\n - 우주개발 및 탐사 : 우주에 대한 연구 및 기술을 의미하며, 우주관련 일반적 지식증진(천문학), 통신용 인공\n           위성 개발 등을 포함"]
[null," - 교통, 전기통신 등 기반시설 : 토지개발, 건축 등 토지의 계획적 사용, 지역개발, 도시의 유해성 예방, 운송\n           체계, 통신시스템, 토목공학, 상수도 등을 위한 연구 등이 포함\n - 에너지 : 모든 에너지의 생산, 저장, 공급, 분배, 합리적 이용에 관한 연구를 의미하며, 에너지 생산 및 배전 \n          효율성 증진을 위한 연구, 에너지 보존을 위한 연구도 포함 (차량과 엔진에 관한 연구는 ‘산업생산 및 \n          기술’에 포함)\n - 산업생산 및 기술 : 산업생산 및 기술의 개선을 위한 연구를 의미하며, 산업생산품 및 제조과정에 관한 연구, \n           재생품 개발에 관한 연구를 포함(단, 국방, 우주, 에너지, 농업 등 특정 목적을 위한 연구는 제외)\n - 건  강 : 인류건강의 보호, 증진, 회복을 목표로 하는 연구로써 영양학, 식품위생학의 건강학적 측면도 포함\n           되며, 의료 및 외과적 치료, (특수)의료서비스, 예방약 개발, 공중위생에 관한 입법 및 규정, 공중위생 \n           관리에 관한 연구 등이 포함\n - 농  업 : 농업, 산림, 어업, 식료품생산 발전을 위한 모든 연구가 포함되며, 생물적 유해물질 제거, 화학비료, \n           살충제, 농업의 기계화, 농업 및 산림업의 환경적 영향, 식품생산의 생산성 제고 및 생산기술에 관한 연구\n          등이 포함"]
[null," - 교  육 : 훈련, 교육학, 교수법 등이 포함된 교육, 영재 및 특수교육, 초등 및 중등이상의 교육, 3차 교육, 교육\n         서비스 등에 관한 연구 등이 포함\n - 문화, 휴양, 종교 및 매스미디어 : 문화활동, 종교, 취미활동 등이 삶에 미치는 영향, 인종과 문화의 통합, \n          사회문화적 변화,  사회과학·종교·예술·스포츠·취미 등의 문화 개념, 미디어연구, 언어의 지배, \n         사회통합, 도서관, 고(古)기록, 문화정 책에 관한 연구를 의미하며, 휴양·스포츠, 문화서비스, 방송·\n         출판, 종교 등 사회공동체에 관한 연구 등이 포함\n - 정치·사회시스템, 조직 및 과정 : 사회의 정치적 구조, 행정 쟁점과 경제 정책, 지역연구 및 다층의 관리\n          방식, 사회변화, 사회작용과 사회분쟁, 사회보장과 사회복지시스템의 확장, 노동조직의 사회상에 관한 \n          연구를 의미하며, 성차별,  지역·국가·국제적인 빈곤 극복, 사회적 약자, 급격한 사회변화에 따른 사회\n          보장방법 등에 관한 연구 등이 포함\n - 지식의 일반적 진보 : 연구개발 용도로 배정되었으나 특정 목적에 속하지 않은 연구\n - 국  방 : 군사 목적의 연구를 의미하며, 국방부에 의해 지원된 기초, 핵, 우주연구가 포함 (국방부가 지원\n        하였더라도 기상 관련 연구는 ‘지구개발 및 탐사’에, 전기통신관련 연구는 ‘교통, 전기 등 기반시설’, \n        건강관련 연구는 ‘건강’에 포함)"]
[null,{"$f":"IF(총괄표!$D$8=\"\",\"\",총괄표!$D$8)","v":""},{"$nulls":8},{"$f":"IF(총괄표!$D$10=\"\",\"\",총괄표!$D$10)","v":""},{"$nulls":6},{"$f":"IF(총괄표!$D$11=\"\",\"\",총괄표!$D$11)","v":""}]
[null,"6-5. 자체사용연구개발비의 6T 연관 비중"]
[]
[null,"IT(정보기술)",null,null,"BT(생명공학기술)",null,null,"NT(나노기술)",null,"ST(우주항공기술)",null,null,"ET(환경기술)",null,null,"CT(문화기술)",null,null,"기  타",null,null,"합  계"]
[null,null,null,"%",null,null,"%",null,"%",null,null,"%",null,null,"%",null,null,"%",null,"%",null,{"$f":"SUM(B37,E37,H37,J37,M37,P37,S37)","v":0},"%"]
[null,"※ 6T의 구분\n - IT(정보기술) : 정보를 생성, 도출, 가공, 전송, 저장하는 모든 유통과정에서 필요한 기술\n      ∙컴퓨터 기술, 통신 및 통신망기술 및 반도체 기술\n      ∙바이오컴퓨팅기술, 신체내장형 컴퓨터기술 등 정보기술 위주의 융합기술\n - BT(생명공학기술) : 생명현상을 일으키는 생체나 생체유래물질 또는 생물학적 시스템을 이용하여 \n       산업적으로 유용한 제품을 제조하거나 공정을 개선하기 위한 기술\n      ∙유전공학, 단백질공학, 세포공학, 효소공학, 생물공정 등\n      ∙바이오신약, 의료생체공학, 뇌과학, 유전자치료, 유전자 변형 생물체, 유전체이용 육종기술, 식품생명공학 \n        기술 등 생명공학 응용기술\n      ∙바이오칩기술, 생물정보학기술 등 생명공학기술위주의 융합기술\n - NT(나노기술) : 물질을 원자․분자크기의 수준(10-9m)에서 조작·분석하고 이를 제어할 수 있는 과학과 기술\n      ∙나노소자 및 시스템, 나노소재, 나노공정기술, 나노 측정기술, 나노 모사기술 등\n      ∙나노바이오센서 등 나노바이오보건 기술"]
[null," - ST(우주항공기술) : 위성체, 발사체, 항공기 등의 개발과 관련된 복합기술\n      ∙위성 설계 및 개발기술, 위성 관재기술, 위성 탑재체 기술, 추진기관 기술, 발사체 설계 및 개발기술, 발사 \n       운용 및 관제기술, 항공기 설계 및 개발 기술 등\n - ET(환경기술) : 환경오염을 저감, 예방, 복원하는 기술로 환경기술, 청정기술, 에너지기술 및 해양환경기술을 \n       포함\n      ∙지구환경보전기술, 환경오염방지 기술, 폐기물처리기술, 청정생산기술 등의 환경기술\n      ∙미활용에너지 활용기술, 연료전지기술, 수소생산이용기술, 바이오에너지기술 등의 대체에너지기술\n      ∙해양환경관리기술, 연안생태계복원기술 등의 해양환경기술\n - CT(문화기술) : 디지털미디어에 기반한 첨단 문화예술산업을 발전시키기 위한 기술을 총칭하며 주로 기존의\n        아날로그  컨텐츠를 디지털화 시키는 기술\n      ∙디지털 컨텐츠 제작편집기술, 디지털 데이터 가공/처리/유통/활용 기술, 가상현실 및 인공지능응용기술, \n       문화원형 복원 기술 등\n - 기타 : 위의 6T 기술분야에 해당되지 않는 기술"]
[]
[null,"6-6. 자체사용연구개발비의 분야별 구성 비중"]
[]
[null,"이 학",null,null,"공 학",null,null,"의·약·보건학",null,null,"농업과학",null,null,"인문학",null,null,"사회과학",null,null,"합 계"]
[null,null,null,"%",null,null,"%",null,null,"%",null,null,"%",null,null,"%",null,null,"%",{"$f":"SUM(Q44,N44,K44,H44,E44,B44)","v":0},null,null,"%"]
[null,"※ 연구분야별 구분\n- 이   학 : 수학, 전산과학·정보과학, 물리학, 화학, 지구과학·천문·기상학, 생물학 등\n- 공   학 : 토목·건축, 전기·전자·통신·정보공학, 기계·항공·원자력, 화학공학, 금속·재료·섬유, 의공학\n                  환경·자원·조선·해양, 환경바이오기술, 산업바이오기술, 나노기술 등\n- 의·약·보건학 : 의학, 한의학, 치의학, 약학, 한약학, 간호·보건학 등\n- 농   학 : 농·림·수산학, 축산학·동물학·낙농과학, 수의학, 농업바이오기술  등\n- 인문학 : 역사학, 언어학·문학, 철학·종교학, 예술학(음악, 미술, 디자인, 의상, 사진, 무용 등), 체육학 등\n- 사회과학 : 심리학, 경제·경영·무역·회계학, 교육학, 사회·사회복지·인류·여성학, 법학, \n                    정치·행정·정책학, 지역·지리·지역개발·관광학, 신문방송학·문헌정보학 등"]
[null,{"$f":"IF(총괄표!$D$8=\"\",\"\",총괄표!$D$8)","v":""},{"$nulls":8},{"$f":"IF(총괄표!$D$10=\"\",\"\",총괄표!$D$10)","v":""},{"$nulls":6},{"$f":"IF(총괄표!$D$11=\"\",\"\",총괄표!$D$11)","v":""}]
[]
["라. 지 역 별  구 분"]
[]
["7. 연구개발인력 및 연구개발비의 지역별 구분"]
[]
[]
[null,"※ 단일 연구개발조직인 경우 해당 소재지에만 기재하여 주시고,\n   지역별로 복수의 연구개발조직이 운영 중인 경우 지역별로 현황을 기재하여 주십시오."]
[null,"(예시) A연구소가 서울에 본원, 수원에 분원을 가지고 있을 경우, ‘서울’과 ‘경기’의 연구개발인력과 연구개발비를 기입"]
[]
[null,"지역별 \n구분",null,"연  구  개  발  인  력",{"$nulls":13},"자체사용연구개발비"]
[null,null,null,"연 구 원 (단위 : 명)",{"$nulls":7},"연구보조 및 행정지원 (단위 : 명)"]
[null,null,null,"남성",null,null,"여성",null,"합계",null,null,"남성",null,"여성",null,"합계"]
[null,"서  울",{"$nulls":6},{"$f":"SUM(D59:H59)","v":0},{"$nulls":6},{"$f":"SUM(L59:O59)","v":0},{"$nulls":5},"백만원"]
[null,"부  산",{"$nulls":6},{"$f":"SUM(D60:H60)","v":0},{"$nulls":6},0,{"$nulls":5},"백만원"]
[null,"대  구",{"$nulls":6},{"$f":"SUM(D61:H61)","v":0},{"$nulls":6},0,{"$nulls":5},"백만원"]
[null,"인  천",{"$nulls":6},0,{"$nulls":6},{"$f":"SUM(L62:O62)","v":0},{"$nulls":5},"백만원"]
[null,"광  주",{"$nulls":6},0,{"$nulls":6},0,{"$nulls":5},"백만원"]
[null,"대  전",{"$nulls":6},0,{"$nulls":6},0,{"$nulls":5},"백만원"]
[null,"울  산",{"$nulls":6},0,{"$nulls":6},0,{"$nulls":5},"백만원"]
[null,"경  기",{"$nulls":6},0,{"$nulls":6},0,{"$nulls":5},"백만원"]
[null,"강  원",{"$nulls":6},{"$f":"SUM(D67:H67)","v":0},{"$nulls":6},{"$f":"SUM(L67:O67)","v":0},{"$nulls":5},"백만원"]
[null,"충  북",{"$nulls":6},{"$f":"SUM(D68:H68)","v":0},{"$nulls":6},0,{"$nulls":5},"백만원"]
[null,"충  남",{"$nulls":6},0,{"$nulls":6},0,{"$nulls":4},{"$f":"'연구비 1'!T33","v":0},"백만원"]
[null,"전  북",{"$nulls":6},0,{"$nulls":6},0,{"$nulls":4},{"$f":"'일반현황 및 연구개발인력'!F18","v":0},"백만원"]
[null,"전  남",{"$nulls":6},0,{"$nulls":6},0,{"$nulls":4},{"$f":"'일반현황 및 연구개발인력'!F19","v":0},"백만원"]
[null,"경  북",{"$nulls":6},0,{"$nulls":6},0,{"$nulls":4},{"$f":"'일반현황 및 연구개발인력'!F20","v":0},"백만원"]
[null,"경  남",{"$nulls":6},0,{"$nulls":6},0,{"$nulls":4},{"$f":"SUM('일반현황 및 연구개발인력'!K18:R18)","v":0},"백만원"]
[null,"제  주",{"$nulls":6},0,{"$nulls":6},0,{"$nulls":4},{"$f":"SUM('일반현황 및 연구개발인력'!K19:R19)","v":0},"백만원"]
[null,"세  종",{"$nulls":6},{"$f":"SUM(D75:H75)","v":0},{"$nulls":6},0,{"$nulls":4},{"$f":"SUM('일반현황 및 연구개발인력'!K20:R20)","v":0},"백만원"]
[null,"합  계",null,{"$f":"SUM(D59:F75)","v":0},null,null,{"$f":"SUM(G59:H75)","v":0},null,{"$f":"SUM(D76:H76)","v":0},null,null,{"$f":"SUM(L59:M75)","v":0},null,{"$f":"SUM(N59:O75)","v":0},null,{"$f":"SUM(P59:Q75)","v":0},null,{"$f":"SUM(R59:T75)","v":0},null,null,"백만원"]
[]
[]
[null,{"$f":"IF(총괄표!$D$8=\"\",\"\",총괄표!$D$8)","v":""},{"$nulls":8},{"$f":"IF(총괄표!$D$10=\"\",\"\",총괄표!$D$10)","v":""},{"$nulls":6},{"$f":"IF(총괄표!$D$11=\"\",\"\",총괄표!$D$11)","v":""}]

{"sheet":"<참조 1> 연구활동의 예시","index":5,"n_rows":52,"n_cols":10,"rows_kept":52,"cut":false,"hidden":false,"merged":[[43,2,43,8],[43,9,43,12],[50,2,50,6],[50,7,50,12],[51,2,51,6],[51,7,51,12],[45,2,45,12],[46,2,46,7],[46,8,46,12],[47,2,47,7],[47,8,47,12],[49,2,49,12],[37,3,37,7],[37,8,37,12],[40,2,40,12],[41,2,41,12],[42,2,42,8],[42,9,42,12],[34,3,34,7],[34,8,34,12],[35,3,35,7],[35,8,35,12],[36,3,36,7],[36,8,36,12],[30,8,30,12],[32,3,32,7],[32,8,32,12],[33,3,33,7],[33,8,33,12],[15,2,15,13],[17,3,17,7],[17,8,17,12],[31,3,31,7],[31,8,31,12],[19,3,19,7],[19,8,19,12],[21,2,21,13],[23,3,23,7],[23,8,23,12],[24,3,24,7],[24,8,24,12],[25,3,25,7],[25,8,25,12],[28,2,28,13],[30,3,30,7],[11,8,11,12],[12,3,12,7],[12,8,12,12],[13,3,13,7],[13,8,13,12],[0,16,40,20],[1,1,1,2],[1,7,1,8],[3,2,3,13],[5,2,5,13],[7,3,7,7],[7,8,7,12],[8,3,8,7],[8,8,8,12],[9,3,9,7],[18,3,18,7],[18,8,18,12],[9,8,9,12],[10,3,10,7],[10,8,10,12],[11,3,11,7]]}
[]
[null,"[참조 1]",{"$nulls":5},"연구개발활동의 정의"]
[]
[null,null,"1.‘연구개발활동’이란 새로운 지식을 획득하거나 기존 지식을 활용하여 새로운 방법을 찾아내기 위한 창조적인 노력\n    및 탐구를 의미"]
[]
[null,null,"2. 총괄 연구개발활동 예시"]
[]
[null,null,"항 목","연 구 개 발 활 동",{"$nulls":4},"비 연 구 개 발 활 동"]
[null,null,"교육, 훈련","▪ 연구 프로젝트와 관련된 학습, 학술회의 세미나 참석 등",{"$nulls":4},"▪ 개인적 학습, 학술회의, 세미나 참석 등의 교육, 훈련"]
[null,null,"과학기술정보서비스","▪ 연구개발을 목적으로 하는 과학기술정보, 테스트,\n  품질관리, 분석\n▪ 내부 연구자들만을 위해 유지되는 자료실 관련 활동",{"$nulls":4},"▪ 수요 충족을 위한 과학기술정보, 테스트, 품질관리, 분석\n▪ 모든 직원에게 공개되는 자료실 관련 활동"]
[null,null,"자료수집","▪ 연구 목적을 위한 자료 수집",{"$nulls":4},"▪ 일반 목적의 자료 수집"]
[null,null,"특허","▪ 연구 프로젝트와 관련된 특허 업무",{"$nulls":4},"▪ 그 외 특허 및 인가와 연관된 모든 행정적, 법적인 업무"]
[null,null,"기상","▪ 기온 측정을 위한 새로운 방법을 탐구",{"$nulls":4},"▪ 기온이나 기압의 측정"]
[null,null,"기타",{"$nulls":5},"▪ 정부부처나 연구기구, 재단, 또는 공익단체들이 연구개발\n  수행자를 위한 자금을 조달, 운영 및 분배하는 재정지원활동\n▪ 정책관련 연구"]
[]
[null,null,"3. 대학 연구개발활동 예시"]
[]
[null,null,"항 목","연 구 개 발 활 동",{"$nulls":4},"비 연 구 개 발 활 동"]
[null,null,"교수 등","▪ 교수의 대학원생에 대한 논문 지도, 프로젝트의 \n  연구방향 지도 및 수행",{"$nulls":4},"▪ 교수의 수업지도, 실험지도, 논문의 수정"]
[null,null,"대학원생","▪ 대학원생의 학위논문 작성 및 특정 연구프로젝트 수행",{"$nulls":4},"▪ 대학원생의 일반적인 수업, 실험, 문헌 강독 등"]
[]
[null,null,"4. 의료기관 연구개발활동 예시"]
[]
[null,null,"항 목","연 구 개 발 활 동",{"$nulls":4},"비 연 구 개 발 활 동"]
[null,null,"의료행위","▪ 연구개발 프로젝트와 관련된 의료활동 및 테스트",{"$nulls":4},"▪ 일반적인 전문의료행위, 통상적인 테스트"]
[null,null,"임상시험","▪ 임상 1상, 임상 2상, 임상 3상",{"$nulls":4},"▪ 임상 4상"]
[null,null," * 승인 및 제조 이후 약품이나 치료법을 테스트하는 임상시험 4단계이더라도, 과학기술적 진보를 가져온 경우에는 연구개발활동으로 분류"]
[]
[null,null,"5. 산업 분야 연구개발활동 예시"]
[]
[null,null,"항 목","연 구 개 발 활 동",{"$nulls":4},"비 연 구 개 발 활 동"]
[null,null,"시제품","▪ 시제품의 설계, 제작 및 테스트",{"$nulls":4},"▪ 개발된 시제품의 단순 복사 제조 "]
[null,null,"시험공장\n(pilot plant)","▪ 생산품이나 생산공정에 대한 기술자료, 경험의 획득이 \n  목적",{"$nulls":4},"▪ 시험단계가 끝나고 상업적 생산단계로 전환"]
[null,null,"시험생산\n(Trial Production)","▪ 추가적인 새로운 설계 및 엔지니어링 활동",{"$nulls":4},"▪ 대량생산을 준비하기 위한 시험생산단계"]
[null,null,"개량연구개발\n(Feed-back R&D)","▪ 신제품 공정이 확립된 이후라도 개량을 위한 기술적 \n  연구개발 활동",{"$nulls":4},"▪ 단순 제품 결함의 색출이나 표준화된 장비의 경미한 개선"]
[null,null,"엔지니어링 및\n 설비의 설치\n(Tooling up)","▪ 새로운 표준의 개발, 현저한 생산성 증대 및 품질\n 향상을 위한 생산방식의 변환 등",{"$nulls":4},"▪ 대량생산을 위한 생산설비의 설치, 생산설비의 증설 등"]
[null,null,"설계업무(Design)","▪ 신제품, 신공정을 위한 기획, 설계 및 기술적 사양작성\n  (연구개발 과정 중 요구되는 디자인)",{"$nulls":4},"▪ 일상적으로 발생하는 방대한 설계업무\n  (제조공정을 위한 디자인)"]
[null,null,"채광 및 시굴","▪ 새로운 탐사 방법 및 기법의 개발",{"$nulls":4},"▪ 일반적으로 상업회사가 수행하는 탐사와 시굴 활동"]
[]
[]
[null,null,"6. 소프트웨어개발 분야 연구개발활동 예시\n    전체 연구개발 프로젝트의 일부분인 소프트웨어와 자체 최종 생산품으로서의 소프트웨어 관련된 연구개발은 연구개발\n    활동에 포함하며, 일상반복적인 소프트웨어 관련 활동은 연구개발에 포함되지 않음"]
[]
[null,null,"연 구 개 발 활 동 의 예시",{"$nulls":6},"비 연 구 개 발 활 동 의 예 시"]
[null,null,"▪ 전체 연구개발 프로젝트의 일부분인 소프트웨어와 자체 최종 생산품으로서의\n  소프트웨어 관련 연구개발\n▪ 이론적 컴퓨터과학분야에서 새로운 이론이나 알고리즘을 생산하는 연구개발\n▪ 운영체제, 프로그래밍 언어, 데이터 관리, 커뮤니케이션 소프트웨어, 소프트\n  웨어개발 도구 수준에서 정보기술의 개발\n▪ 인터넷 기술의 개발\n▪ 소프트웨어 디자인, 개발, 고안, 유지기법과 관련된 연구\n▪ 정보 전송, 포착, 저장, 복구, 조작, 디스플레이를 위한 포괄적 접근방법의 \n  진보를 위한 소프트웨어 개발\n▪ 소프트웨어프로그램이나 시스템개발을 위해 요구되는, 기술지식 격차를 \n   해소하기 위한 실험적 개발\n▪ 특화된 컴퓨터영역에서 소프트웨어 기법이나 기술과 관련된 연구 개발\n  (이미지처리, 지리학적 자료 출력, 인공지능 등)",{"$nulls":6},"▪ 일상적이고 반복적인 소프트웨어 관련 활동\n▪ 알려진 방법이나 기존소프트웨어 기법을 \n  사용한 기업용 응용소프트웨어 및 정보\n  시스템 개발 \n▪ 기존시스템 지원\n▪ 컴퓨터언어의 변환 또는 번역\n▪ 응용프로그램에 사용자 기능 추가\n▪ 시스템 결함 수정(debugging)\n▪ 기존소프트웨어의 적용\n▪ 사용자용 문서(매뉴얼 등) 작성"]
[]
[null,null,"7. 서비스 분야 연구개발활동 예시"]
[null,null,"은행, 보험 분야 연구개발활동의 예시",{"$nulls":5},"기타서비스 부문 연구개발활동의 예시"]
[null,null,"▪ 재무위험분석과 관련된 수학적 연구\n▪ 신용정책을 위한 리스크 모델의 개발\n▪ 홈뱅킹을 위한 새로운 소프트웨어 개발\n▪ 새로운 유형의 계좌, 서비스 개발을 목적으로 소비자 행동양식 \n  조사 기법 개발\n▪ 보험계약시 고려해야 할 새로운 위험이나 특징 파악을 위한 연구\n▪ 새로운 유형의 보험에 영향을 끼지는 사회 현상들에 대한 연구\n▪ 전자뱅킹 및 보험, 인터넷 관련 서비스 및 전자상거래 응용에 \n  관련된 연구\n▪ 새롭거나 실질적으로 개선된 재무서비스 개발 연구",{"$nulls":5},"▪ 소비와 여가활동의 사회경제적 영향 분석\n▪ 소비자 기대와 선호도 측정 관련 신기법 개발\n▪ 새로운 조사방법 및 도구 개발\n▪ 추적 기록 과정의 개발\n▪ 시제품과 시범 상점의 설립\n▪ 시제품 출시와 시험저장\n"]
[]
[null,null,"8. 인문학과 사회과학 분야의 연구개발활동 예시"]
[null,null,"연구개발활동의 예시",{"$nulls":4},"비연구개발활동의 예시"]
[null,null,"▪ 특정 연구프로젝트의 통합된 \n  한 부분으로 수행되는 연구\n▪ 특정 연구프로젝트에 기여할 \n  목적으로 수행되는 연구",{"$nulls":4},"▪ 사회과학자들이 특정 문제를 다루기 위해 이미 확립된 사회과학 방법론, 원리, \n  모델들을 적용하는 연구\n▪ 조세구조의 변화가 초래할 경제적 효과에 대한 기존 경제 데이터를 이용한 연구\n▪ 산업인력, 군대인력, 학생 등의 분류, 아동들의 독해력이나 기타 장애를 테스트하기\n  위해 응용심리학의 표준기법을 사용한 연구"]

{"sheet":"<참조 2,3> 외부기관 설명, 연구개발단계 설명","index":6,"n_rows":30,"n_cols":11,"rows_kept":30,"cut":false,"hidden":false,"merged":[[29,2,29,5],[29,6,29,9],[29,10,29,13],[27,2,27,5],[27,6,27,9],[27,10,27,13],[28,2,28,5],[28,6,28,9],[28,10,28,13],[14,8,14,13],[10,3,10,7],[15,3,15,7],[15,8,15,13],[14,3,14,7],[21,2,21,14],[23,5,23,12],[25,2,25,5],[25,6,25,9],[25,10,25,13],[26,2,26,5],[26,6,26,9],[26,10,26,13],[23,1,23,2],[7,2,10,2],[16,3,16,7],[16,8,16,13],[17,3,17,7],[17,8,17,13],[20,2,20,14],[10,8,10,13],[11,3,11,7],[11,8,11,13],[12,3,12,7],[12,8,12,13],[8,8,8,13],[2,1,2,2],[2,5,2,12],[4,2,4,14],[5,2,5,13],[6,3,6,7],[6,8,6,13],[7,3,7,7],[7,8,7,13],[8,3,8,7],[13,3,13,7],[13,8,13,13],[9,3,9,7],[9,8,9,13]]}
[]
[]
[null,"[참조 2]",null,null,null,"외부기관 설명 및 예시 (부처 소관 관리기구 및 해당사업 등)"]
[]
[null,null,"1. 중앙부처 : 국가 연구개발사업비의 배분․관리를 담당하는 한국연구재단, 한국산업기술평가관리원, 정보통신산업진흥원\n                    등 부처 소관 관리기구로부터 받은 연구개발비는 중앙부처란에 기입"]
[null,null,"<중앙부처 소관 연구개발사업 예시>"]
[null,null,"중앙부처","부처소속 관리기구",{"$nulls":4},"소관연구개발사업예시"]
[null,null,"과학기술정보통신부","∙한국연구재단",{"$nulls":4},"중견연구자지원, 일반연구자지원(미래부), 글로벌프론티어사업 등"]
[null,null,null,"∙정보통신산업진흥원",{"$nulls":4},"정보통신기술인력양성, 기술확산지원(정보통신) 등 "]
[null,null,null,"∙정보통신기획평가원",{"$nulls":4},"SW컴퓨팅산업원천기술개발, 전자정보디바이스산업원천기술개발 등"]
[null,null,null,"∙한국방송통신전파진흥원 ",{"$nulls":4},"방송통신인프라원천기술개발, 방송통신융합미디어원천기술개발 등"]
[null,null,"교육부","∙한국연구재단",{"$nulls":4},"일반연구자지원(교육부), 인문사회기초연구, BK21플러스사업(0.5) 등"]
[null,null,"산업통상자원부","∙한국산업기술평가관리원",{"$nulls":4},"소재부품기술개발, 글로벌전문기술개발(주력,신산업) 등"]
[null,null,"환경부","∙한국환경산업기술원",{"$nulls":4},"차세대에코이노베이션기술개발사업 등"]
[null,null,"보건복지부","∙한국보건산업진흥원",{"$nulls":4},"질환극복기술개발, 첨단의료기술개발 등"]
[null,null,"방위사업청","∙국방기술품질원",{"$nulls":4},"연구개발성능개량, 업체주관연구개발 등 "]
[null,null,"국토교통부","∙국토교통과학기술진흥원",{"$nulls":4},"철도기술연구사업, 건설교통기술촉진연구 등 "]
[null,null,"해양수산부","∙해양수산과학기술진흥원",{"$nulls":4},"남극제2기지건설, 해양과학조사및예보기술개발 등"]
[]
[null,null,"주) 중앙부처명은 2020년 기준의 부처명임"]
[null,null,"2. 지방자치단체 : 지방자치단체로부터 받은 연구개발비는 지방자치단체란에 기입\n\n3. 국․공립연구기관 : 국·공립병원 포함\n\n4. 국․공립대학(교)법인 : 국·공립 2/3/4년제 대학, 국·공립대학병원\n\n5. 정부출연연구기관 : 법인의 운영에 필요한 경비의 일부 또는 전부를 정부에서 출연한 기관으로 정부출연연구기관 등의\n                                 설립·운영 및 육성에 관한 법률, 과학기술분야 정부출연연구기관 등의 설립·운영 및 육성에 관한 \n                                 법률,특정연구기관육성법에 의해 설립된 기관 등\n   예) 한국과학기술연구원, 한국원자력연구원, 한국기계연구원 등\n\n6. 지방자치단체 출연연구기관 : 법인의 운영에 필요한 경비의 일부 또는 전부를 지방자치단체에서 출연한 기관\n   예) 부산연구원, 대구경북연구원, 인천연구원, 경기연구원, 광주전남연구원 등\n\n7. 기타 비영리법인 : \n  - 정부출연기관이 아닌 법인으로 민법 제32조의 규정 또는 기타 특별법에 의하여 설립된 기관(연구조합, 협회 등)\n     예) 한국자동차연구원, 한국신발피혁연구원, 한국의류시험연구원 등\n  - 기타 법인격이 없는 개인 및 단체 등\n  - 병원의 경우 대학부속병원과 국공립병원을 제외한 병원은 모두 기타 비영리법인에 포함\n\n8. 사립대학(교) : 사립 4/3/2년제 대학, 사립대학 부속 병원\n\n9. 정부투자기관 : 법인의 운영에 필요한 경비의 일부 또는 전부를 정부에서 투자한 기관\n   예) 한국농어촌공사, 한국광물자원공사, 한국수자원공사, 한국가스공사, 한국조폐공사, 한국전력공사, 한국도로공사 등\n\n10. 외국 : 외국의 정부, 기업체 또는 국제기구 등"]
[]
[]
[null,"[참조 3]",null,null,null,"연구개발단계별 예시"]
[]
[null,null,"기초연구",null,null,null,"응용연구",null,null,null,"개발연구"]
[null,null,"∙ 항체 분자의 아미노산 계열 결정 연구",null,null,null,"∙ 다양한 질병에 대한 항체들을 서로 구별하기 \n  위한 탐구",null,null,null,"∙ 항체의 구조에 대한 지식을 기초로 특정\n  질병에 대한 항체를 합성하기 위한 \n  방법 고안\n∙ 한 환자에게 임상적으로 실험하는 것"]
[null,null,"∙ 경제성장의 지역적인 차이를 결정\n  하는 요인들에 대한 이론적인 탐구",null,null,null,"∙ 이러한 탐구가 정부정책의 개발을 위해서 \n  수행",null,null,null,"∙ 연구를 통해 밝혀진 법칙을 기반으로, \n  지역적 불균형을 해소하는데 목적을 \n  둔 운영모델을 개발"]
[null,null,"∙사회구조 및 한 사회의 사회·직업적\n 이동성에 대한 연구",null,null,null,"∙사회이동 최근 경향의 미래 결과 예측을 위해 \n 수집된 자료를 이용한 모델의 개발",null,null,null,"∙어떤 사회 및 인종집단에서 상향이동을 \n 촉진하는 프로그램의 개발 및 테스트"]
[null,null,"∙ 양자 계산법이나 양자정보이론과 \n  같은 대안적인 계산방법에 대한 \n  연구",null,null,null,"∙ 정보처리의 새로운 영역이나 방식을 통한 \n  응용을 탐구\n∙ 지리적인 정보나 전문가 시스템과 같은 \n  도구 개발을 위해 정보처리를 응용",null,null,null,"∙ 새로운 응용 소프트웨어의 개발, 운영\n  체계 및 응용 프로그램등의 실질적인 \n  향상"]

{"sheet":"데이터입력용","index":7,"n_rows":8,"n_cols":213,"rows_kept":8,"cut":false,"hidden":true,"merged":[]}
["특이사항","대구분","원자료번호","일련번호 최종","구분","기관명","법정유형(최종)","산업분류코드","설립년도","사업자등록번호","법인등록번호","우편번호","주소1","주소2","홈페이지","연구소명","대표자직명","대표자성명","작성자소속","작성자직명","작성자성명","E-mail","TEL","FAX","조직형태","조직형태2","4년제/전문대학","연구소설립년도","총직원수(명)","자본금","자산","매출액","연구개발 수행유무","주요 연구개발 분야","전임강사 이상 교수 남","전임강사 이상 교수 여","전임강사이상 교수 계","전임 평균연구참여비율","전임 실질연구참여인력","교수외 전임연구원 남","교수외 전임연구원 여","교수외 전임연구원 계","교수외 전임연구원 평균연구참여비율","교수외 전임연구원 실질연구참여인력","박사과정 연구원 남","박사과정 연구원 여","박사과정 연구원 계","박사과정 평균연구참여비율","박사과정 실질 연구참여인력","연구원 남성","연구원 여성","연구원 합계","연구원 평균 연구참여비율","연구원 실질연구참여인력","연구참여 석사 남; 연구지원, 기능 남","연구참여 석사 여; 연구지원, 기능 여","연구참여 석사 합계; 연구지원, 기능 합계","연구참여 석사 평균 연구참여비율","석사, 연구지원 실질연구참여인력","기타지원 남","기타지원 여","기타지원 합계","기타지원 평균 연구참여비율","연구행정 실질연구참여인력","연구인력 남","연구인력 여","연구인력 합계","연구인력 평균 연구참여비율","연구인력 실질연구참여인력","29세 이하 남","29세 이하 여","29세 이하 계","30-39세 남","30-39세 여","30-39세 계","40-49세 남","40-49세 여","40-49세 계","50-59세 남","50-59세 여","50-59세 계","60세 이상 남","60세 이상 여","60세 이상 계","남성 합계","여성 합계","전체합계","서울연구원 남","서울연구원 여","서울연구원","서울연구보조및행정 남","서울연구보조및행정 여","서울연구보조및행정","서울연구개발비","부산연구원 남","부산연구원 여","부산연구원","부산연구보조및행정 남","부산연구보조및행정 여","부산연구보조및행정","부산연구개발비","대구연구원 남","대구연구원 여","대구연구원","대구연구보조및행정 남","대구연구보조및행정 여","대구연구보조및행정","대구연구개발비","인천연구원 남","인천연구원 여","인천연구원","인천연구보조및행정 남","인천연구보조및행정 여","인천연구보조및행정","인천연구개발비","광주연구원 남","광주연구원 여","광주연구원","광주연구보조및행정 남","광주연구보조및행정 여","광주연구보조및행정","광주연구개발비","대전연구원 남","대전연구원 여","대전연구원","대전연구보조및행정 남","대전연구보조및행정 여","대전연구보조및행정","대전연구개발비","울산연구원 남","울산연구원 여","울산연구원","울산연구보조및행정 남","울산연구보조및행정 여","울산연구보조및행정","울산연구개발비","경기연구원 남","경기연구원 여","경기연구원","경기연구보조및행정 남","경기연구보조및행정 여","경기연구보조및행정","경기연구개발비","강원연구원 남","강원연구원 여","강원연구원","강원연구보조및행정 남","강원연구보조및행정 여","강원연구보조및행정","강원연구개발비","충북연구원 남","충북연구원 여","충북연구원","충북연구보조및행정 남","충북연구보조및행정 여","충북연구보조및행정","충북연구개발비","충남연구원 남","충남연구원 여","충남연구원","충남연구보조및행정 남","충남연구보조및행정 여","충남연구보조및행정","충남연구개발비","전북연구원 남","전북연구원 여","전북연구원","전북연구보조및행정 남","전북연구보조및행정 여","전북연구보조및행정","전북연구개발비","전남연구원 남","전남연구원 여","전남연구원","전남연구보조및행정 남","전남연구보조및행정 여","전남연구보조및행정","전남연구개발비","경북연구원 남","경북연구원 여","경북연구원","경북연구보조및행정 남","경북연구보조및행정 여","경북연구보조및행정","경북연구개발비","경남연구원 남","경남연구원 여","경남연구원","경남연구보조및행정 남","경남연구보조및행정 여","경남연구보조및행정","경남연구개발비","제주연구원 남","제주연구원 여","제주연구원","제주연구보조및행정 남","제주연구보조및행정 여","제주연구보조및행정","제주연구개발비","세종연구원 남","세종연구원 여","세종연구원","세종연구보조및행정 남","세종연구보조및행정 여","세종연구보조및행정","세종연구개발비","연구원 남","연구원 여","연구원 합계","연구보조 남","연구보조 여","연구보조및 행정 합계","연구개발비 합계"]
[null,"연구기관",null,null,"연구소",{"$f":"총괄표!D8","v":0},null,null,null,{"$f":"총괄표!D10","v":0},{"$f":"총괄표!D11","v":0},{"$f":"총괄표!F12","v":0},{"$f":"총괄표!E13","v":0},null,{"$f":"총괄표!F14","v":0},null,{"$f":"총괄표!K8","v":0},{"$f":"총괄표!M8","v":0},{"$f":"총괄표!K10","v":0},{"$f":"총괄표!K11","v":0},{"$f":"총괄표!M11","v":0},{"$f":"총괄표!K13","v":0},{"$f":"총괄표!K14","v":0},{"$f":"총괄표!K15","v":0},{"$f":"IF('일반현황 및 연구개발인력'!F3=1,\"국립연구기관\",IF('일반현황 및 연구개발인력'!F3=2,\"공립연구기관\",IF('일반현황 및 연구개발인력'!F3=3,\"정부출연\",IF('일반현황 및 연구개발인력'!F3=4,\"지방자치출연\",IF('일반현황 및 연구개발인력'!F3=5,\"기타비영리\",\"\")))))","v":""},{"$f":"IF('일반현황 및 연구개발인력'!F3=1,\"중앙행정\",IF('일반현황 및 연구개발인력'!F3=2,\"지방자치\",\"\"))","v":""},null,null,{"$f":"'일반현황 및 연구개발인력'!F4","v":0},null,null,null,{"$f":"IF('일반현황 및 연구개발인력'!F5=1,\"유\",IF('일반현황 및 연구개발인력'!F5=2,\"무\",\"\"))","v":""},{"$f":"IF('일반현황 및 연구개발인력'!F7=1,\"이학\",IF('일반현황 및 연구개발인력'!F7=2,\"공학\",IF('일반현황 및 연구개발인력'!F7=3,\"의약보건학\",IF('일반현황 및 연구개발인력'!F7=4,\"농업과학\",IF('일반현황 및 연구개발인력'!F7=5,\"인문학\",IF('일반현황 및 연구개발인력'!F7=6,\"사회과학\",\"\"))))))","v":""},{"$nulls":15},{"$f":"'일반현황 및 연구개발인력'!F18","v":0},{"$f":"'일반현황 및 연구개발인력'!F19","v":0},{"$f":"'일반현황 및 연구개발인력'!F20","v":0},{"$f":"'일반현황 및 연구개발인력'!F21","v":0},{"$f":"AZ2*BA2/100","v":0},{"$f":"'일반현황 및 연구개발인력'!K18","v":0},{"$f":"'일반현황 및 연구개발인력'!K19","v":0},{"$f":"'일반현황 및 연구개발인력'!K20","v":0},{"$f":"'일반현황 및 연구개발인력'!K21","v":0},{"$f":"BE2*BF2/100","v":0},{"$f":"'일반현황 및 연구개발인력'!O18","v":0},{"$f":"'일반현황 및 연구개발인력'!O19","v":0},{"$f":"'일반현황 및 연구개발인력'!O20","v":0},{"$f":"'일반현황 및 연구개발인력'!O21","v":0},{"$f":"BJ2*BK2/100","v":0},{"$f":"'일반현황 및 연구개발인력'!S18","v":0},{"$f":"'일반현황 및 연구개발인력'!S19","v":0},{"$f":"'일반현황 및 연구개발인력'!S20","v":0},{"$f":"BQ2/BO2*100","v":{"$error":"#DIV/0!"}},{"$f":"SUM(BB2,BG2,BL2)","v":0},{"$f":"'일반현황 및 연구개발인력'!F32","v":0},{"$f":"'일반현황 및 연구개발인력'!F33","v":0},{"$f":"'일반현황 및 연구개발인력'!F34","v":0},{"$f":"'일반현황 및 연구개발인력'!I32","v":0},{"$f":"'일반현황 및 연구개발인력'!I33","v":0},{"$f":"'일반현황 및 연구개발인력'!I34","v":0},{"$f":"'일반현황 및 연구개발인력'!L32","v":0},{"$f":"'일반현황 및 연구개발인력'!L33","v":0},{"$f":"'일반현황 및 연구개발인력'!L34","v":0},{"$f":"'일반현황 및 연구개발인력'!O32","v":0},{"$f":"'일반현황 및 연구개발인력'!O33","v":0},{"$f":"'일반현황 및 연구개발인력'!O34","v":0},{"$f":"'일반현황 및 연구개발인력'!R32","v":0},{"$f":"'일반현황 및 연구개발인력'!R33","v":0},{"$f":"'일반현황 및 연구개발인력'!R34","v":0},{"$f":"'일반현황 및 연구개발인력'!S32","v":0},{"$f":"'일반현황 및 연구개발인력'!S33","v":0},{"$f":"'일반현황 및 연구개발인력'!S34","v":0},{"$f":"'연구비 2 및 지역별 구분'!D59","v":0},{"$f":"'연구비 2 및 지역별 구분'!G59","v":0},{"$f":"'연구비 2 및 지역별 구분'!I59","v":0},{"$f":"'연구비 2 및 지역별 구분'!L59","v":0},{"$f":"'연구비 2 및 지역별 구분'!N59","v":0},{"$f":"'연구비 2 및 지역별 구분'!P59","v":0},{"$f":"'연구비 2 및 지역별 구분'!R59","v":0},{"$f":"'연구비 2 및 지역별 구분'!D60","v":0},{"$f":"'연구비 2 및 지역별 구분'!G60","v":0},{"$f":"'연구비 2 및 지역별 구분'!I60","v":0},{"$f":"'연구비 2 및 지역별 구분'!L60","v":0},{"$f":"'연구비 2 및 지역별 구분'!N60","v":0},{"$f":"'연구비 2 및 지역별 구분'!P60","v":0},{"$f":"'연구비 2 및 지역별 구분'!R60","v":0},{"$f":"'연구비 2 및 지역별 구분'!D61","v":0},{"$f":"'연구비 2 및 지역별 구분'!G61","v":0},{"$f":"'연구비 2 및 지역별 구분'!I61","v":0},{"$f":"'연구비 2 및 지역별 구분'!L61","v":0},{"$f":"'연구비 2 및 지역별 구분'!N61","v":0},{"$f":"'연구비 2 및 지역별 구분'!P61","v":0},{"$f":"'연구비 2 및 지역별 구분'!R61","v":0},{"$f":"'연구비 2 및 지역별 구분'!D62","v":0},{"$f":"'연구비 2 및 지역별 구분'!G62","v":0},{"$f":"'연구비 2 및 지역별 구분'!I62","v":0},{"$f":"'연구비 2 및 지역별 구분'!L62","v":0},{"$f":"'연구비 2 및 지역별 구분'!N62","v":0},{"$f":"'연구비 2 및 지역별 구분'!P62","v":0},{"$f":"'연구비 2 및 지역별 구분'!R62","v":0},{"$f":"'연구비 2 및 지역별 구분'!D63","v":0},{"$f":"'연구비 2 및 지역별 구분'!G63","v":0},{"$f":"'연구비 2 및 지역별 구분'!I63","v":0},{"$f":"'연구비 2 및 지역별 구분'!L63","v":0},{"$f":"'연구비 2 및 지역별 구분'!N63","v":0},{"$f":"'연구비 2 및 지역별 구분'!P63","v":0},{"$f":"'연구비 2 및 지역별 구분'!R63","v":0},{"$f":"'연구비 2 및 지역별 구분'!D64","v":0},{"$f":"'연구비 2 및 지역별 구분'!G64","v":0},{"$f":"'연구비 2 및 지역별 구분'!I64","v":0},{"$f":"'연구비 2 및 지역별 구분'!L64","v":0},{"$f":"'연구비 2 및 지역별 구분'!N64","v":0},{"$f":"'연구비 2 및 지역별 구분'!P64","v":0},{"$f":"'연구비 2 및 지역별 구분'!R64","v":0},{"$f":"'연구비 2 및 지역별 구분'!D65","v":0},{"$f":"'연구비 2 및 지역별 구분'!G65","v":0},{"$f":"'연구비 2 및 지역별 구분'!I65","v":0},{"$f":"'연구비 2 및 지역별 구분'!L65","v":0},{"$f":"'연구비 2 및 지역별 구분'!N65","v":0},{"$f":"'연구비 2 및 지역별 구분'!P65","v":0},{"$f":"'연구비 2 및 지역별 구분'!R65","v":0},{"$f":"'연구비 2 및 지역별 구분'!D66","v":0},{"$f":"'연구비 2 및 지역별 구분'!G66","v":0},{"$f":"'연구비 2 및 지역별 구분'!I66","v":0},{"$f":"'연구비 2 및 지역별 구분'!L66","v":0},{"$f":"'연구비 2 및 지역별 구분'!N66","v":0},{"$f":"'연구비 2 및 지역별 구분'!P66","v":0},{"$f":"'연구비 2 및 지역별 구분'!R66","v":0},{"$f":"'연구비 2 및 지역별 구분'!D67","v":0},{"$f":"'연구비 2 및 지역별 구분'!G67","v":0},{"$f":"'연구비 2 및 지역별 구분'!I67","v":0},{"$f":"'연구비 2 및 지역별 구분'!L67","v":0},{"$f":"'연구비 2 및 지역별 구분'!N67","v":0},{"$f":"'연구비 2 및 지역별 구분'!P67","v":0},{"$f":"'연구비 2 및 지역별 구분'!R67","v":0},{"$f":"'연구비 2 및 지역별 구분'!D68","v":0},{"$f":"'연구비 2 및 지역별 구분'!G68","v":0},{"$f":"'연구비 2 및 지역별 구분'!I68","v":0},{"$f":"'연구비 2 및 지역별 구분'!L68","v":0},{"$f":"'연구비 2 및 지역별 구분'!N68","v":0},{"$f":"'연구비 2 및 지역별 구분'!P68","v":0},{"$f":"'연구비 2 및 지역별 구분'!R68","v":0},{"$f":"'연구비 2 및 지역별 구분'!D69","v":0},{"$f":"'연구비 2 및 지역별 구분'!G69","v":0},{"$f":"'연구비 2 및 지역별 구분'!I69","v":0},{"$f":"'연구비 2 및 지역별 구분'!L69","v":0},{"$f":"'연구비 2 및 지역별 구분'!N69","v":0},{"$f":"'연구비 2 및 지역별 구분'!P69","v":0},{"$f":"'연구비 2 및 지역별 구분'!R69","v":0},{"$f":"'연구비 2 및 지역별 구분'!D70","v":0},{"$f":"'연구비 2 및 지역별 구분'!G70","v":0},{"$f":"'연구비 2 및 지역별 구분'!I70","v":0},{"$f":"'연구비 2 및 지역별 구분'!L70","v":0},{"$f":"'연구비 2 및 지역별 구분'!N70","v":0},{"$f":"'연구비 2 및 지역별 구분'!P70","v":0},{"$f":"'연구비 2 및 지역별 구분'!R70","v":0},{"$f":"'연구비 2 및 지역별 구분'!D71","v":0},{"$f":"'연구비 2 및 지역별 구분'!G71","v":0},{"$f":"'연구비 2 및 지역별 구분'!I71","v":0},{"$f":"'연구비 2 및 지역별 구분'!L71","v":0},{"$f":"'연구비 2 및 지역별 구분'!N71","v":0},{"$f":"'연구비 2 및 지역별 구분'!P71","v":0},{"$f":"'연구비 2 및 지역별 구분'!R71","v":0},{"$f":"'연구비 2 및 지역별 구분'!D72","v":0},{"$f":"'연구비 2 및 지역별 구분'!G72","v":0},{"$f":"'연구비 2 및 지역별 구분'!I72","v":0},{"$f":"'연구비 2 및 지역별 구분'!L72","v":0},{"$f":"'연구비 2 및 지역별 구분'!N72","v":0},{"$f":"'연구비 2 및 지역별 구분'!P72","v":0},{"$f":"'연구비 2 및 지역별 구분'!R72","v":0},{"$f":"'연구비 2 및 지역별 구분'!D73","v":0},{"$f":"'연구비 2 및 지역별 구분'!G73","v":0},{"$f":"'연구비 2 및 지역별 구분'!I73","v":0},{"$f":"'연구비 2 및 지역별 구분'!L73","v":0},{"$f":"'연구비 2 및 지역별 구분'!N73","v":0},{"$f":"'연구비 2 및 지역별 구분'!P73","v":0},{"$f":"'연구비 2 및 지역별 구분'!R73","v":0},{"$f":"'연구비 2 및 지역별 구분'!D74","v":0},{"$f":"'연구비 2 및 지역별 구분'!G74","v":0},{"$f":"'연구비 2 및 지역별 구분'!I74","v":0},{"$f":"'연구비 2 및 지역별 구분'!L74","v":0},{"$f":"'연구비 2 및 지역별 구분'!N74","v":0},{"$f":"'연구비 2 및 지역별 구분'!P74","v":0},{"$f":"'연구비 2 및 지역별 구분'!R74","v":0},{"$f":"'연구비 2 및 지역별 구분'!D75","v":0},{"$f":"'연구비 2 및 지역별 구분'!G75","v":0},{"$f":"'연구비 2 및 지역별 구분'!I75","v":0},{"$f":"'연구비 2 및 지역별 구분'!L75","v":0},{"$f":"'연구비 2 및 지역별 구분'!N75","v":0},{"$f":"'연구비 2 및 지역별 구분'!P75","v":0},{"$f":"'연구비 2 및 지역별 구분'!R75","v":0},{"$f":"'연구비 2 및 지역별 구분'!D76","v":0},{"$f":"'연구비 2 및 지역별 구분'!G76","v":0},{"$f":"'연구비 2 및 지역별 구분'!I76","v":0},{"$f":"'연구비 2 및 지역별 구분'!L76","v":0},{"$f":"'연구비 2 및 지역별 구분'!N76","v":0},{"$f":"'연구비 2 및 지역별 구분'!P76","v":0},{"$f":"'연구비 2 및 지역별 구분'!R76","v":0}]
["대구분","일련번호 최종","구분","기관명","산업분류코드","매출액","산업분류 대","산업분류 중","산업분류 소","산업분류 세세","자체부담 연구개발비(백만원)","(지입)정부-중앙부처","(지입)정부-지방자치","(지입)정부-국공립대학","(지입)정부-국공립시험연","(지입)정부-정부출연","(지입)정부-지방자치단체출연","(지입)공공-기타비영리","(지입)공공-사립대학","(지입)민간-동일계열사","(지입)민간-외부민간","(지입)민간-정부투자,재투자","(지입)외국-동일계열사","(지입)외국-외부업체","(지입)외국-정부","(지입)외국-비영리법인","(지입)외국-외국대학","(지입)외국-EU","(지입)외국-국제기구","(지입)소계","정부","공공","민간","외국","정부(최종)","공공(최종)","민간(최종)","외국(최종)","(지출)정부-국공립대학","(지출)정부-국공립시험연","(지출)정부-정부출연","(지출)정부-지방자치단체출연","(지출)공공-기타비영리","(지출)공공-사립대학","(지출)민간-동일계열사","(지출)민간-외부민간","(지출)민간-정부투자","(지출)외국-동일계열사","(지출)외국-외부업체","(지출)외국-정부","(지출)외국-비영리법인","(지출)외국-대학","(지출)외국-국제기구","(지출)소계","자체사용연구개발비","경상비-인건비","경상비-교육훈련비","경상비-원재료비","경상비-기타경상비","자본적지출-기계장치","자본적지출-토지","자본적지출-건물","자본적지출-컴퓨터","자본적지출-기타지식재산물","합계","기초","응용","개발","합계","수학","물리학","화학","지구과학","생명과학","농림,수산","보건,의료","기계","재료","화학공정","전기,전자","정보, 통신","에너지,자원","원자력","환경","건설/교통","역사/고고학","철학/종교","언어학","문학","문화/예술/체육","법","정치/행정","경제/경영","사회/인류/복지/여성","생활","지리/지역/관광","심리","교육","미디어/커뮤니케이션/문헌정보","뇌과학","인지/감성과학","과학기술과 인문사회","합계","지구개발및탐사","환경_경제사회목적별","우주개발 및 탐사","교통, 전기통신","에너지","산업생산 및 기술","건강","농업","교육_경제사회목적별","문화, 휴양, 종교","정치, 사회시스템","지식진보","국방","합계","제품관련-신제품개발","제품관련-기존제품개선","공정관련-신공정개발","공정관련-기존공정개선","합계","IT(정보기술)","BT(생명공학기술)","NT(나노기술)","ST(우주항공기술)","ET(환경기술)","CT(문화기술)","기타","합계","이학","공학","의학","농학","인문학","사회과학","합계"]
["연구기관",null,"연구소",{"$f":"F2","v":0},{"$nulls":6},{"$f":"'연구비 1'!U6","v":0},{"$f":"'연구비 1'!I11","v":0},{"$f":"'연구비 1'!I12","v":0},{"$f":"'연구비 1'!I13","v":0},{"$f":"'연구비 1'!I14","v":0},{"$f":"'연구비 1'!I15","v":0},{"$f":"'연구비 1'!I16","v":0},{"$f":"'연구비 1'!I17","v":0},{"$f":"'연구비 1'!I18","v":0},null,{"$f":"'연구비 1'!I20","v":0},{"$f":"'연구비 1'!I21","v":0},null,{"$f":"'연구비 1'!I23","v":0},{"$f":"'연구비 1'!I24","v":0},{"$f":"'연구비 1'!I25","v":0},{"$f":"'연구비 1'!I26","v":0},{"$f":"'연구비 1'!I27","v":0},{"$f":"'연구비 1'!I28","v":0},{"$f":"'연구비 1'!I29","v":0},{"$f":"IF(Y2=\"국공립대학\",SUM(K4:Q4),IF(Y2=\"국공립대학부속병원\",SUM(K4:Q4),IF(Y2=\"국립연구기관\",SUM(K4:Q4),IF(Y2=\"공립연구기관\",SUM(K4:Q4),IF(Y2=\"국립병원\",SUM(K4:Q4),IF(Y2=\"공립병원\",SUM(K4:Q4),IF(Y2=\"정부출연\",SUM(K4:Q4),IF(Y2=\"지방자치출연\",SUM(K4:Q4),SUM(L4:Q4)))))))))","v":0},{"$f":"IF(Y2=\"기타비영리\",SUM(K4,R4:S4),IF(Y2=\"사립대학\",SUM(K4,R4:S4),IF(Y2=\"사립대학부속병원\",SUM(K4,R4:S4),IF(Y2=\"사립병원\",SUM(K4,R4:S4),SUM(R4:S4)))))","v":0},{"$f":"IF(Y2=\"민간기업\",SUM(K4,T4:V4),IF(Y2=\"정부투자재투자기관\",SUM(K4,T4:V4),SUM(T4:V4)))","v":0},{"$f":"SUM(W4:AC4)","v":0},{"$f":"IF(B2=\"기업\",AE4,AE4/SUM(AE4:AH4)*BC4)","v":{"$error":"#DIV/0!"}},{"$f":"IF(B2=\"기업\",AF4,AF4/SUM(AE4:AH4)*BC4)","v":{"$error":"#DIV/0!"}},{"$f":"IF(B2=\"기업\",AG4-BB4,AG4/SUM(AE4:AH4)*BC4)","v":{"$error":"#DIV/0!"}},{"$f":"IF(B2=\"기업\",AH4,AH4/SUM(AE4:AH4)*BC4)","v":{"$error":"#DIV/0!"}},{"$f":"'연구비 1'!U11","v":0},{"$f":"'연구비 1'!U12","v":0},{"$f":"'연구비 1'!U14","v":0},{"$f":"'연구비 1'!U15","v":0},{"$f":"'연구비 1'!U16","v":0},{"$f":"'연구비 1'!U18","v":0},null,{"$f":"'연구비 1'!U20","v":0},{"$f":"'연구비 1'!U21","v":0},null,{"$f":"'연구비 1'!U23","v":0},{"$f":"'연구비 1'!U24","v":0},{"$f":"'연구비 1'!U25","v":0},{"$f":"'연구비 1'!U26","v":0},{"$f":"'연구비 1'!U27","v":0},{"$f":"'연구비 1'!U29","v":0},{"$f":"'연구비 1'!T33","v":0},{"$f":"'연구비 1'!B42","v":0},null,null,{"$f":"'연구비 1'!E42","v":0},{"$f":"'연구비 1'!H42","v":0},{"$f":"'연구비 1'!J42","v":0},{"$f":"'연구비 1'!N42","v":0},{"$f":"'연구비 1'!Q42","v":0},{"$f":"'연구비 1'!S42","v":0},{"$f":"'연구비 1'!U42","v":0},{"$f":"'연구비 2 및 지역별 구분'!B5","v":0},{"$f":"'연구비 2 및 지역별 구분'!H5","v":0},{"$f":"'연구비 2 및 지역별 구분'!M5","v":0},{"$f":"'연구비 2 및 지역별 구분'!R5","v":0},{"$f":"'연구비 2 및 지역별 구분'!B11","v":0},{"$f":"'연구비 2 및 지역별 구분'!E11","v":0},{"$f":"'연구비 2 및 지역별 구분'!H11","v":0},{"$f":"'연구비 2 및 지역별 구분'!K11","v":0},{"$f":"'연구비 2 및 지역별 구분'!N11","v":0},{"$f":"'연구비 2 및 지역별 구분'!Q11","v":0},{"$f":"'연구비 2 및 지역별 구분'!T11","v":0},{"$f":"'연구비 2 및 지역별 구분'!B13","v":0},{"$f":"'연구비 2 및 지역별 구분'!E13","v":0},{"$f":"'연구비 2 및 지역별 구분'!H13","v":0},{"$f":"'연구비 2 및 지역별 구분'!K13","v":0},{"$f":"'연구비 2 및 지역별 구분'!N13","v":0},{"$f":"'연구비 2 및 지역별 구분'!Q13","v":0},{"$f":"'연구비 2 및 지역별 구분'!T13","v":0},{"$f":"'연구비 2 및 지역별 구분'!B15","v":0},{"$f":"'연구비 2 및 지역별 구분'!E15","v":0},{"$f":"'연구비 2 및 지역별 구분'!H15","v":0},{"$f":"'연구비 2 및 지역별 구분'!K15","v":0},{"$f":"'연구비 2 및 지역별 구분'!N15","v":0},{"$f":"'연구비 2 및 지역별 구분'!Q15","v":0},{"$f":"'연구비 2 및 지역별 구분'!T15","v":0},{"$f":"'연구비 2 및 지역별 구분'!B17","v":0},{"$f":"'연구비 2 및 지역별 구분'!E17","v":0},{"$f":"'연구비 2 및 지역별 구분'!H17","v":0},{"$f":"'연구비 2 및 지역별 구분'!K17","v":0},{"$f":"'연구비 2 및 지역별 구분'!N17","v":0},{"$f":"'연구비 2 및 지역별 구분'!Q17","v":0},{"$f":"'연구비 2 및 지역별 구분'!T17","v":0},{"$f":"'연구비 2 및 지역별 구분'!B19","v":0},{"$f":"'연구비 2 및 지역별 구분'!E19","v":0},{"$f":"'연구비 2 및 지역별 구분'!H19","v":0},{"$f":"'연구비 2 및 지역별 구분'!K19","v":0},{"$f":"'연구비 2 및 지역별 구분'!N19","v":0},{"$f":"'연구비 2 및 지역별 구분'!Q19","v":0},{"$f":"'연구비 2 및 지역별 구분'!B26","v":0},{"$f":"'연구비 2 및 지역별 구분'!E26","v":0},{"$f":"'연구비 2 및 지역별 구분'!H26","v":0},{"$f":"'연구비 2 및 지역별 구분'!L26","v":0},{"$f":"'연구비 2 및 지역별 구분'!O26","v":0},{"$f":"'연구비 2 및 지역별 구분'!R26","v":0},{"$f":"'연구비 2 및 지역별 구분'!V26","v":0},{"$f":"'연구비 2 및 지역별 구분'!B28","v":0},{"$f":"'연구비 2 및 지역별 구분'!E28","v":0},{"$f":"'연구비 2 및 지역별 구분'!H28","v":0},{"$f":"'연구비 2 및 지역별 구분'!L28","v":0},{"$f":"'연구비 2 및 지역별 구분'!O28","v":0},{"$f":"'연구비 2 및 지역별 구분'!R28","v":0},{"$f":"'연구비 2 및 지역별 구분'!V28","v":0},{"$nulls":5},{"$f":"'연구비 2 및 지역별 구분'!B37","v":0},{"$f":"'연구비 2 및 지역별 구분'!E37","v":0},{"$f":"'연구비 2 및 지역별 구분'!H37","v":0},{"$f":"'연구비 2 및 지역별 구분'!J37","v":0},{"$f":"'연구비 2 및 지역별 구분'!M37","v":0},{"$f":"'연구비 2 및 지역별 구분'!P37","v":0},{"$f":"'연구비 2 및 지역별 구분'!S37","v":0},{"$f":"'연구비 2 및 지역별 구분'!V37","v":0},{"$f":"'연구비 2 및 지역별 구분'!B44","v":0},{"$f":"'연구비 2 및 지역별 구분'!E44","v":0},{"$f":"'연구비 2 및 지역별 구분'!H44","v":0},{"$f":"'연구비 2 및 지역별 구분'!K44","v":0},{"$f":"'연구비 2 및 지역별 구분'!N44","v":0},{"$f":"'연구비 2 및 지역별 구분'!Q44","v":0},{"$f":"'연구비 2 및 지역별 구분'!T44","v":0}]
["대구분","일련번호 최종","구분","기관명","산업분류코드","이학-박사 남","이학-박사 여","이학-석사 남","이학-석사 여","이학-학사 남","이학-학사 여","이학-기타 남","이학-기타 여","이학-합계","공학-박사 남","공학-박사 여","공학-석사 남","공학-석사 여","공학-학사 남","공학-학사 여","공학-기타 남","공학-기타 여","공학-합계","의약보건학-박사 남","의약보건학-박사 여","의약보건학-석사 남","의약보건학-석사 여","의약보건학-학사 남","의약보건학-학사 여","의약보건학-기타 남","의약보건학-기타 여","의약복보학-합계"]
["연구기관",null,"연구소",{"$f":"F2","v":0},null,{"$f":"연구원!E6","v":0},{"$f":"연구원!F6","v":0},{"$f":"연구원!G6","v":0},{"$f":"연구원!H6","v":0},{"$f":"연구원!I6","v":0},{"$f":"연구원!J6","v":0},{"$f":"연구원!K6","v":0},{"$f":"연구원!L6","v":0},{"$f":"연구원!N6","v":0},{"$f":"연구원!E8","v":0},{"$f":"연구원!F8","v":0},{"$f":"연구원!G8","v":0},{"$f":"연구원!H8","v":0},{"$f":"연구원!I8","v":0},{"$f":"연구원!J8","v":0},{"$f":"연구원!K8","v":0},{"$f":"연구원!L8","v":0},{"$f":"연구원!N8","v":0},{"$f":"연구원!E10","v":0},{"$f":"연구원!F10","v":0},{"$f":"연구원!G10","v":0},{"$f":"연구원!H10","v":0},{"$f":"연구원!I10","v":0},{"$f":"연구원!J10","v":0},{"$f":"연구원!K10","v":0},{"$f":"연구원!L10","v":0},{"$f":"연구원!N10","v":0}]
["대구분","일련번호 최종","구분","기관명","산업분류코드","농업과학-박사 남","농업과학-박사 여","농업과학-석사 남","농업과학-석사 여","농업과학-학사 남","농업과학-학사 여","농업과학-기타 남","농업과학-기타 여","농업과학-합계","인문학-박사 남","인문학-박사 여","인문학-석사 남","인문학-석사 여","인문학-학사 남","인문학-학사 여","인문학-기타 남","인문학-기타 여","인문학-합계 ","사회과학-박사 남","사회과학-박사 여","사회과학-석사 남","사회과학-석사 여","사회과학-학사 남","사회과학-학사 여","사회과학-기타 남","사회과학-기타 여","사회과학-합계 ","합계-박사 남","합계-박사 여","합계-석사 남","합계-석사 여","합계-학사 남","합계-학사 여","합계-기타 남","합계-기타 여","합계"]
["연구기관",null,"연구소",{"$f":"F2","v":0},null,{"$f":"연구원!E12","v":0},{"$f":"연구원!F12","v":0},{"$f":"연구원!G12","v":0},{"$f":"연구원!H12","v":0},{"$f":"연구원!I12","v":0},{"$f":"연구원!J12","v":0},{"$f":"연구원!K12","v":0},{"$f":"연구원!L12","v":0},{"$f":"연구원!N12","v":0},{"$f":"연구원!E14","v":0},{"$f":"연구원!F14","v":0},{"$f":"연구원!G14","v":0},{"$f":"연구원!H14","v":0},{"$f":"연구원!I14","v":0},{"$f":"연구원!J14","v":0},{"$f":"연구원!K14","v":0},{"$f":"연구원!L14","v":0},{"$f":"연구원!N14","v":0},{"$f":"연구원!E16","v":0},{"$f":"연구원!F16","v":0},{"$f":"연구원!G16","v":0},{"$f":"연구원!H16","v":0},{"$f":"연구원!I16","v":0},{"$f":"연구원!J16","v":0},{"$f":"연구원!K16","v":0},{"$f":"연구원!L16","v":0},{"$f":"연구원!N16","v":0},{"$f":"연구원!E18","v":0},{"$f":"연구원!F18","v":0},{"$f":"연구원!G18","v":0},{"$f":"연구원!H18","v":0},{"$f":"연구원!I18","v":0},{"$f":"연구원!J18","v":0},{"$f":"연구원!K18","v":0},{"$f":"연구원!L18","v":0},{"$f":"연구원!N18","v":0}]